BEGIN:VCALENDAR
VERSION:2.0
PRODID:-//Dorpsraad Altweerterheide - ECPv6.15.18//NONSGML v1.0//EN
CALSCALE:GREGORIAN
METHOD:PUBLISH
X-WR-CALNAME:Dorpsraad Altweerterheide
X-ORIGINAL-URL:https://www.altweerterheide.nl
X-WR-CALDESC:Evenementen voor Dorpsraad Altweerterheide
REFRESH-INTERVAL;VALUE=DURATION:PT1H
X-Robots-Tag:noindex
X-PUBLISHED-TTL:PT1H
BEGIN:VTIMEZONE
TZID:Europe/Amsterdam
BEGIN:DAYLIGHT
TZOFFSETFROM:+0100
TZOFFSETTO:+0200
TZNAME:CEST
DTSTART:20250330T010000
END:DAYLIGHT
BEGIN:STANDARD
TZOFFSETFROM:+0200
TZOFFSETTO:+0100
TZNAME:CET
DTSTART:20251026T010000
END:STANDARD
BEGIN:DAYLIGHT
TZOFFSETFROM:+0100
TZOFFSETTO:+0200
TZNAME:CEST
DTSTART:20260329T010000
END:DAYLIGHT
BEGIN:STANDARD
TZOFFSETFROM:+0200
TZOFFSETTO:+0100
TZNAME:CET
DTSTART:20261025T010000
END:STANDARD
BEGIN:DAYLIGHT
TZOFFSETFROM:+0100
TZOFFSETTO:+0200
TZNAME:CEST
DTSTART:20270328T010000
END:DAYLIGHT
BEGIN:STANDARD
TZOFFSETFROM:+0200
TZOFFSETTO:+0100
TZNAME:CET
DTSTART:20271031T010000
END:STANDARD
BEGIN:DAYLIGHT
TZOFFSETFROM:+0100
TZOFFSETTO:+0200
TZNAME:CEST
DTSTART:20280326T010000
END:DAYLIGHT
BEGIN:STANDARD
TZOFFSETFROM:+0200
TZOFFSETTO:+0100
TZNAME:CET
DTSTART:20281029T010000
END:STANDARD
END:VTIMEZONE
BEGIN:VEVENT
DTSTART;TZID=Europe/Amsterdam:20260412T110000
DTEND;TZID=Europe/Amsterdam:20260412T110000
DTSTAMP:20260419T215451
CREATED:20260303T150336Z
LAST-MODIFIED:20260303T150336Z
UID:10001174-1775991600-1775991600@www.altweerterheide.nl
SUMMARY:11.00 H.Mis 2e zondag van Pasen (Beloken Pasen).
DESCRIPTION:voor echtgenoten Sjaak en Toos Postjes – Peeters \nKoster en lector M. Peeters
URL:https://www.altweerterheide.nl/activiteit/11-00-h-mis-2e-zondag-van-pasen-beloken-pasen/
LOCATION:Kerk parochie Heilig Hart van Jezus\, Bocholterweg 112\, Altweerterheide\, Limburg\, 6006 TN\, Nederland
CATEGORIES:Kerkdiensten
ATTACH;FMTTYPE=image/jpeg:https://www.altweerterheide.nl/wp-content/uploads/2025/07/kerkgebouw.jpg
ORGANIZER;CN="Parochie van het Heilig Hart van Jezus Altweerterheide":MAILTO:pastooramal@webparochie.nl
END:VEVENT
BEGIN:VEVENT
DTSTART;TZID=Europe/Amsterdam:20260502T130000
DTEND;TZID=Europe/Amsterdam:20260502T170000
DTSTAMP:20260419T215451
CREATED:20260330T182347Z
LAST-MODIFIED:20260330T182347Z
UID:10001181-1777726800-1777741200@www.altweerterheide.nl
SUMMARY:BBQ Toernooi bij TC Altweerterheide
DESCRIPTION:Op zaterdag 2 mei 2026 organiseert TC Altweerterheide een gezellig en sportief BBQ toernooi! Vanaf 13.00 uur ben je van harte welkom op de tennisvelden van TC Altweerterheide\, gelegen op sportpark Op den Das. \nGeniet van een leuke middag vol tennis\, ontmoeting en gezelligheid. Of je nu meedoet op de baan of komt voor de sfeer\, iedereen is welkom! Vanaf 17.00 uur gaat de barbecue aan en kun je samen genieten van heerlijk eten. \nKosten: \n\nVolwassenen: €15\,-\nKinderen t/m 18 jaar: €7\,50\n\nAanmelden:\nMeld je aan bij Lars van Oijen via 06-34679682 (WhatsApp). \nLet op: aanmelden kan tot 25 april aanstaande. \nWe hopen er samen een sportieve en smakelijke dag van te maken. Tot ziens op 2 mei! \nTC Altweerterheide
URL:https://www.altweerterheide.nl/activiteit/bbq-toernooi-bij-tc-altweerterheide/
LOCATION:Sportpark Op den Das\, Bocholterweg\, Aktweerterheide\, Kimburg\, Nederland
CATEGORIES:Ontspanning,Sport
ATTACH;FMTTYPE=image/jpeg:https://www.altweerterheide.nl/wp-content/uploads/2025/08/250822-logo-TCA.jpg
END:VEVENT
BEGIN:VEVENT
DTSTART;TZID=Europe/Amsterdam:20260517T140000
DTEND;TZID=Europe/Amsterdam:20260517T140000
DTSTAMP:20260419T215451
CREATED:20260226T105825Z
LAST-MODIFIED:20260226T105825Z
UID:10001168-1779026400-1779026400@www.altweerterheide.nl
SUMMARY:25 jarig priesterjubileum Pastoor Amal
DESCRIPTION:Pastoor Amal viert vandaag zijn 25 jarig priester jubileum. Er is een mis in de kerk van Stramproy die begint om 14.00 uur.
URL:https://www.altweerterheide.nl/activiteit/25-jarig-priesterjubileum-pastoor-amal/
LOCATION:kerk Stramproy
CATEGORIES:Kerkdiensten
ATTACH;FMTTYPE=image/jpeg:https://www.altweerterheide.nl/wp-content/uploads/2025/07/kerkgebouw.jpg
ORGANIZER;CN="Parochie van het Heilig Hart van Jezus Altweerterheide":MAILTO:pastooramal@webparochie.nl
END:VEVENT
BEGIN:VEVENT
DTSTART;TZID=Europe/Amsterdam:20260606T150000
DTEND;TZID=Europe/Amsterdam:20260606T230000
DTSTAMP:20260419T215451
CREATED:20260306T141302Z
LAST-MODIFIED:20260413T123715Z
UID:10001175-1780758000-1780786800@www.altweerterheide.nl
SUMMARY:Kermis in Altweerterheide
DESCRIPTION:Kermis in Altweerterheide. Met medewerking van de Harmonie en het klein orkest.\nOm 19.30 uur kermisconcert in de kerk.
URL:https://www.altweerterheide.nl/activiteit/kermis-in-altweerterheide-5/
LOCATION:Kerkplein\, Boholterweg 112\, Altweerterheide
CATEGORIES:Bestuur,Ontspanning
ATTACH;FMTTYPE=image/jpeg:https://www.altweerterheide.nl/wp-content/uploads/2026/01/logo-dorpsraad-bijgeknipt.jpg
ORGANIZER;CN="Bestuur dorpsraad Altweerterheide":MAILTO:info@altweerterheide.nl
END:VEVENT
BEGIN:VEVENT
DTSTART;TZID=Europe/Amsterdam:20260607T120000
DTEND;TZID=Europe/Amsterdam:20260607T120000
DTSTAMP:20260419T215451
CREATED:20260306T141528Z
LAST-MODIFIED:20260306T141528Z
UID:10001176-1780833600-1780833600@www.altweerterheide.nl
SUMMARY:Kermis in Altweerterheide
DESCRIPTION:Kermis in Altweerterheide. In de middag brunch.
URL:https://www.altweerterheide.nl/activiteit/kermis-in-altweerterheide-6/
LOCATION:Kerkplein\, Boholterweg 112\, Altweerterheide
CATEGORIES:Cultuur,Ontspanning
ATTACH;FMTTYPE=image/jpeg:https://www.altweerterheide.nl/wp-content/uploads/2026/01/logo-dorpsraad-bijgeknipt.jpg
ORGANIZER;CN="Bestuur dorpsraad Altweerterheide":MAILTO:info@altweerterheide.nl
END:VEVENT
BEGIN:VEVENT
DTSTART;TZID=Europe/Amsterdam:20260613T150000
DTEND;TZID=Europe/Amsterdam:20260613T150000
DTSTAMP:20260419T215451
CREATED:20260325T141032Z
LAST-MODIFIED:20260325T141131Z
UID:10001179-1781362800-1781362800@www.altweerterheide.nl
SUMMARY:Straatfeest buurt Hei-op.
DESCRIPTION:vanaf 15.00 uur Straatfeest Hei-op op het speelveldje aan Op den Das.
URL:https://www.altweerterheide.nl/activiteit/3636/
LOCATION:Speelveldje Op en Das\, Op den Das\, Altweerterheide
CATEGORIES:Ontspanning
ATTACH;FMTTYPE=image/jpeg:https://www.altweerterheide.nl/wp-content/uploads/2025/03/250331-logo-Hei-Op.jpg
END:VEVENT
BEGIN:VEVENT
DTSTART;TZID=Europe/Amsterdam:20260620T000000
DTEND;TZID=Europe/Amsterdam:20260620T000000
DTSTAMP:20260419T215451
CREATED:20260125T145820Z
LAST-MODIFIED:20260125T145820Z
UID:10001160-1781913600-1781913600@www.altweerterheide.nl
SUMMARY:Happen en stappen
DESCRIPTION:Happen en stappen
URL:https://www.altweerterheide.nl/activiteit/happen-en-stappen/
LOCATION:nog nader te bepalen
CATEGORIES:Ontspanning
ATTACH;FMTTYPE=image/jpeg:https://www.altweerterheide.nl/wp-content/uploads/2026/01/logo-dorpsraad-bijgeknipt.jpg
END:VEVENT
BEGIN:VEVENT
DTSTART;TZID=Europe/Amsterdam:20260703T190000
DTEND;TZID=Europe/Amsterdam:20260703T190000
DTSTAMP:20260419T215451
CREATED:20260413T124207Z
LAST-MODIFIED:20260413T124207Z
UID:10001182-1783105200-1783105200@www.altweerterheide.nl
SUMMARY:Afsluiting muziekproject op school
DESCRIPTION:Afsluiting muziekproject op school met medewerking van alle leerlingen\, het schoolorkest\, het klein orkest en het harmonieorkest.
URL:https://www.altweerterheide.nl/activiteit/afsluiting-muziekproject-op-school/
LOCATION:Kerk parochie Heilig Hart van Jezus\, Bocholterweg 112\, Altweerterheide\, Limburg\, 6006 TN\, Nederland
CATEGORIES:Cultuur,Muziek
ORGANIZER;CN="Harmonie van het Heilig Hart Altweerterheide":MAILTO:info@harmonieheilighart.com
END:VEVENT
BEGIN:VEVENT
DTSTART;TZID=Europe/Amsterdam:20260822T000000
DTEND;TZID=Europe/Amsterdam:20260822T000000
DTSTAMP:20260419T215451
CREATED:20260125T150119Z
LAST-MODIFIED:20260125T150119Z
UID:10001161-1787356800-1787356800@www.altweerterheide.nl
SUMMARY:Barbeque Karelke
DESCRIPTION:Barbeque
URL:https://www.altweerterheide.nl/activiteit/barbeque-karelke/
LOCATION:Buurt Karelke\, Altwerterheide
CATEGORIES:Ontspanning
ATTACH;FMTTYPE=image/jpeg:https://www.altweerterheide.nl/wp-content/uploads/2026/01/logo-dorpsraad-bijgeknipt.jpg
END:VEVENT
BEGIN:VEVENT
DTSTART;TZID=Europe/Amsterdam:20260906T000000
DTEND;TZID=Europe/Amsterdam:20260906T000000
DTSTAMP:20260419T215451
CREATED:20260125T150320Z
LAST-MODIFIED:20260125T150320Z
UID:10001162-1788652800-1788652800@www.altweerterheide.nl
SUMMARY:Fietstocht Karelke
DESCRIPTION:Fietstocht karelke
URL:https://www.altweerterheide.nl/activiteit/fietstocht-karelke/
LOCATION:nog nader te bepalen
CATEGORIES:Ontspanning
ATTACH;FMTTYPE=image/jpeg:https://www.altweerterheide.nl/wp-content/uploads/2026/01/logo-dorpsraad-bijgeknipt.jpg
END:VEVENT
BEGIN:VEVENT
DTSTART;TZID=Europe/Amsterdam:20261024T000000
DTEND;TZID=Europe/Amsterdam:20261024T000000
DTSTAMP:20260419T215451
CREATED:20260125T150558Z
LAST-MODIFIED:20260125T150558Z
UID:10001163-1792800000-1792800000@www.altweerterheide.nl
SUMMARY:Survival en/of spokentocht Karelke
DESCRIPTION:Survival en/of spokentocht Karelke
URL:https://www.altweerterheide.nl/activiteit/survival-en-of-spokentocht-karelke/
LOCATION:nog nader te bepalen
CATEGORIES:Ontspanning
ATTACH;FMTTYPE=image/jpeg:https://www.altweerterheide.nl/wp-content/uploads/2026/01/logo-dorpsraad-bijgeknipt.jpg
END:VEVENT
BEGIN:VEVENT
DTSTART;TZID=Europe/Amsterdam:20261118T193000
DTEND;TZID=Europe/Amsterdam:20271122T193000
DTSTAMP:20260419T215451
CREATED:20260216T112543Z
LAST-MODIFIED:20260311T150232Z
UID:10001167-1795030200-1826911800@www.altweerterheide.nl
SUMMARY:Theaterdocu "Vroulje met Kaêr"
DESCRIPTION:Maak je klaar voor een onvergetelijke avond! In onze theaterdocumentaire Vroulje mèt\nKaêr nemen we jullie mee op een reis door 70 jaar vrouwenemancipatie – verteld in\nblokken van telkens tien jaar.\nWat gebeurde er landelijk\, en wat speelde er hier in Limburg? Dat laten we zien met\nbeelden\, geluid\, licht\, muziek\, monologen\, dialogen en dans.\nWe hebben verhalen opgehaald bij vrouwen in Stramproy én Altweerterheide: verhalen\nvan krachtige vrouwen\, van vroeger en nu. Verhalen met een lach én een traan\,\nherkenbaar en inspirerend. \nWaarom deze voorstelling?\nHet idee ontstond toen we het archief ontvingen van Lies Koolen – lid van ZijActief\,\nvoormalig raadslid en een vrouw die veel betekend heeft voor de emancipatie in\nStramproy en daarbuiten. In 2026 is het precies 70 jaar geleden dat de Wet\nHandelingsonbekwaamheid werd afgeschaft. Een mijlpaal die ons aan het denken zette: \nwaar staan we nu?\nMet steun van regisseur Johan Korten\, Stichting Buitentoneel Stramproy en vele\nbevlogen mensen groeide dit idee uit tot een voorstelling die de actualiteit niet schuwt.\nHet gaat ons daarbij niet zo zeer om aandacht voor femicide of #MeToo\, maar om een\nbredere blik: thema’s als sociale veiligheid\, het maken van keuzes\, authenticiteit\, de\ninvloed van social media\, burn-outs bij jonge vrouwen én mannen en de vraag hoe we\ntegenwoordig alle ballen in de lucht houden. \nEen avond om niet te missen\nHet wordt een bijzondere\, herkenbare en prikkelende voorstelling waarin de kracht\,\nstrijd en verhalen van vrouwen centraal staan. Vroulje mèt kaêr belooft een ode te\nworden aan generaties vrouwen die samen geschiedenis hebben geschreven. Wij\nbeloven: dit wordt een avond die je bijblijft – en waar we jullie heel graag welkom heten!\nHet projectteam van Vroulje mèt Kaêr. \nMarianne Vleeshouwers Ton Lemmen\nMarianne In den Kleef Frans Henderikx\nRita Peerlings Wilfred Huijerjans
URL:https://www.altweerterheide.nl/activiteit/theaterdocu-vrollie-mer-kaer/
LOCATION:Gemeenschapscentrum de Zaal\, Mariastraat 1\, Stramproy\, Nederland
CATEGORIES:Cultuur
ATTACH;FMTTYPE=image/jpeg:https://www.altweerterheide.nl/wp-content/uploads/2024/01/Dorpsraad-Altweerterheide-Logo-Banner.jpg
END:VEVENT
BEGIN:VEVENT
DTSTART;TZID=Europe/Amsterdam:20261128T080000
DTEND;TZID=Europe/Amsterdam:20261128T170000
DTSTAMP:20260419T215451
CREATED:20251026T120354Z
LAST-MODIFIED:20251026T120354Z
UID:10001139-1795852800-1795885200@www.altweerterheide.nl
SUMMARY:jubileum weekend 66 jaar CV de Heiknuiters
DESCRIPTION:Jubileumweekend cv de Heiknuiters. Programma\, plaats en kosten nog nader te bepalen.
URL:https://www.altweerterheide.nl/activiteit/jubileum-weekend-66-jaar-cv-de-heiknuiters/
LOCATION:nog nader te bepalen
CATEGORIES:Carnaval
ATTACH;FMTTYPE=image/jpeg:https://www.altweerterheide.nl/wp-content/uploads/2024/09/logo-heiknuiters-e1738162900541.jpg
ORGANIZER;CN="CV de Heiknuiters":MAILTO:info@heiknuiters.nl
END:VEVENT
BEGIN:VEVENT
DTSTART;TZID=Europe/Amsterdam:20261129T080000
DTEND;TZID=Europe/Amsterdam:20261129T170000
DTSTAMP:20260419T215451
CREATED:20251026T120605Z
LAST-MODIFIED:20251026T120605Z
UID:10001140-1795939200-1795971600@www.altweerterheide.nl
SUMMARY:jubileum weekend 66 jaar CV de Heiknuiters
DESCRIPTION:Jubileum weekend cv de Heiknuiters\, invulling\, tijd enzovoort nog nader te bepalen.
URL:https://www.altweerterheide.nl/activiteit/jubileum-weekend-66-jaar-cv-de-heiknuiters-2/
LOCATION:nog nader te bepalen
CATEGORIES:Carnaval
ATTACH;FMTTYPE=image/jpeg:https://www.altweerterheide.nl/wp-content/uploads/2024/09/logo-heiknuiters-e1738162900541.jpg
ORGANIZER;CN="CV de Heiknuiters":MAILTO:info@heiknuiters.nl
END:VEVENT
BEGIN:VEVENT
DTSTART;TZID=Europe/Amsterdam:20261215T000000
DTEND;TZID=Europe/Amsterdam:20261220T000000
DTSTAMP:20260419T215451
CREATED:20260125T150939Z
LAST-MODIFIED:20260125T150939Z
UID:10001164-1797292800-1797724800@www.altweerterheide.nl
SUMMARY:Kerstattenties rond brengen 65+ leden Karelke
DESCRIPTION:Kerstattenties rond brengen vanaf 15 december 2026. Alleen voor leden van Buurt Karelke die de leeftijd van 65+ jaren hebben bereikt.
URL:https://www.altweerterheide.nl/activiteit/kerstattenties-rond-brengen-65-leden-karelke/
LOCATION:Buurt Karelke\, Altwerterheide
CATEGORIES:Ontspanning
ATTACH;FMTTYPE=image/jpeg:https://www.altweerterheide.nl/wp-content/uploads/2026/01/logo-dorpsraad-bijgeknipt.jpg
END:VEVENT
END:VCALENDAR