BEGIN:VCALENDAR
VERSION:2.0
PRODID:-//Dorpsraad Altweerterheide - ECPv6.15.18//NONSGML v1.0//EN
CALSCALE:GREGORIAN
METHOD:PUBLISH
X-WR-CALNAME:Dorpsraad Altweerterheide
X-ORIGINAL-URL:https://www.altweerterheide.nl
X-WR-CALDESC:Evenementen voor Dorpsraad Altweerterheide
REFRESH-INTERVAL;VALUE=DURATION:PT1H
X-Robots-Tag:noindex
X-PUBLISHED-TTL:PT1H
BEGIN:VTIMEZONE
TZID:Europe/Amsterdam
BEGIN:DAYLIGHT
TZOFFSETFROM:+0100
TZOFFSETTO:+0200
TZNAME:CEST
DTSTART:20240331T010000
END:DAYLIGHT
BEGIN:STANDARD
TZOFFSETFROM:+0200
TZOFFSETTO:+0100
TZNAME:CET
DTSTART:20241027T010000
END:STANDARD
BEGIN:DAYLIGHT
TZOFFSETFROM:+0100
TZOFFSETTO:+0200
TZNAME:CEST
DTSTART:20250330T010000
END:DAYLIGHT
BEGIN:STANDARD
TZOFFSETFROM:+0200
TZOFFSETTO:+0100
TZNAME:CET
DTSTART:20251026T010000
END:STANDARD
BEGIN:DAYLIGHT
TZOFFSETFROM:+0100
TZOFFSETTO:+0200
TZNAME:CEST
DTSTART:20260329T010000
END:DAYLIGHT
BEGIN:STANDARD
TZOFFSETFROM:+0200
TZOFFSETTO:+0100
TZNAME:CET
DTSTART:20261025T010000
END:STANDARD
END:VTIMEZONE
BEGIN:VEVENT
DTSTART;TZID=Europe/Amsterdam:20250719T130000
DTEND;TZID=Europe/Amsterdam:20250719T130000
DTSTAMP:20260419T225712
CREATED:20250706T083246Z
LAST-MODIFIED:20250706T083246Z
UID:10001094-1752930000-1752930000@www.altweerterheide.nl
SUMMARY:Barbeque toernooi TC Altweerterheide
DESCRIPTION:Barbeque toernooi TC Altweerterheide \nStart om 13.00 uur toernooi om 17.30 uur barbeque \nLocatie velden TCA en clubhuis. \nKosten 15 euro pp \nOpgeven via whatsapp Lars van Oijen 06-34679682
URL:https://www.altweerterheide.nl/activiteit/barbeque-toernooi-tc-altweerterheide/
LOCATION:kantine TC Altweerterheide\, Bocholterweg\, Nederland
CATEGORIES:Ontspanning
ATTACH;FMTTYPE=image/jpeg:https://www.altweerterheide.nl/wp-content/uploads/2025/07/250706-BBQ-TC-Altweerterheide-25.jpg
END:VEVENT
BEGIN:VEVENT
DTSTART;TZID=Europe/Amsterdam:20250713T110000
DTEND;TZID=Europe/Amsterdam:20250713T110000
DTSTAMP:20260419T225712
CREATED:20250620T101812Z
LAST-MODIFIED:20250620T101812Z
UID:10001092-1752404400-1752404400@www.altweerterheide.nl
SUMMARY:H.Mis 15e zondag door het jaar
DESCRIPTION:voor Jac Rietjens (jrd) \nKoster en lector M. Peeters
URL:https://www.altweerterheide.nl/activiteit/h-mis-15e-zondag-door-het-jaar-2/
LOCATION:Kerk parochie Heilig Hart van Jezus\, Bocholterweg 112\, Altweerterheide\, Limburg\, 6006 TN\, Nederland
CATEGORIES:Kerkdiensten
ATTACH;FMTTYPE=image/jpeg:https://www.altweerterheide.nl/wp-content/uploads/2024/07/kern3.jpg
ORGANIZER;CN="Parochie van het Heilig Hart van Jezus Altweerterheide":MAILTO:pastooramal@webparochie.nl
END:VEVENT
BEGIN:VEVENT
DTSTART;TZID=Europe/Amsterdam:20250706T110000
DTEND;TZID=Europe/Amsterdam:20250706T110000
DTSTAMP:20260419T225712
CREATED:20250608T180249Z
LAST-MODIFIED:20250608T180249Z
UID:10001091-1751799600-1751799600@www.altweerterheide.nl
SUMMARY:H.Mis 14e zondag door het jaar
DESCRIPTION:voor liefde in de gezinnen\, voor een fijne zomervakantie. \nKoster B. Lamerikx           Lector W. Janssen.
URL:https://www.altweerterheide.nl/activiteit/h-mis-14e-zondag-door-het-jaar-3/
LOCATION:Kerk parochie Heilig Hart van Jezus\, Bocholterweg 112\, Altweerterheide\, Limburg\, 6006 TN\, Nederland
CATEGORIES:Kerkdiensten
ATTACH;FMTTYPE=image/jpeg:https://www.altweerterheide.nl/wp-content/uploads/2024/07/kern3.jpg
ORGANIZER;CN="Parochie van het Heilig Hart van Jezus Altweerterheide":MAILTO:pastooramal@webparochie.nl
END:VEVENT
BEGIN:VEVENT
DTSTART;TZID=Europe/Amsterdam:20250629T110000
DTEND;TZID=Europe/Amsterdam:20250629T110000
DTSTAMP:20260419T225712
CREATED:20250608T180013Z
LAST-MODIFIED:20250608T180013Z
UID:10001090-1751194800-1751194800@www.altweerterheide.nl
SUMMARY:H.Mis Hoogfeest Allerheiligst Hart van Jezus\, Hoogfeest H.H. Petrus en Paulus\, Apostelen.
DESCRIPTION:voor overleden echtgenoten Piet en Nelly Bonten-Linders \nKoster en lector M. Peeters.
URL:https://www.altweerterheide.nl/activiteit/h-mis-hoogfeest-allerheiligst-hart-van-jezus-hoogfeest-h-h-petrus-en-paulus-apostelen/
LOCATION:Kerk parochie Heilig Hart van Jezus\, Bocholterweg 112\, Altweerterheide\, Limburg\, 6006 TN\, Nederland
CATEGORIES:Kerkdiensten
ATTACH;FMTTYPE=image/jpeg:https://www.altweerterheide.nl/wp-content/uploads/2024/07/kern3.jpg
ORGANIZER;CN="Parochie van het Heilig Hart van Jezus Altweerterheide":MAILTO:pastooramal@webparochie.nl
END:VEVENT
BEGIN:VEVENT
DTSTART;TZID=Europe/Amsterdam:20250626T093000
DTEND;TZID=Europe/Amsterdam:20250626T093000
DTSTAMP:20260419T225712
CREATED:20250325T131145Z
LAST-MODIFIED:20250325T131145Z
UID:10001071-1750930200-1750930200@www.altweerterheide.nl
SUMMARY:Fietstocht ouderenvereniging
DESCRIPTION:
URL:https://www.altweerterheide.nl/activiteit/fietstocht-ouderenvereniging/
LOCATION:Kerkplein\, Boholterweg 112\, Altweerterheide
CATEGORIES:Senioren
ATTACH;FMTTYPE=image/png:https://www.altweerterheide.nl/wp-content/uploads/2025/03/logo-ouderenvereniging.png
ORGANIZER;CN="ouderenvereniging Altweerterheide":MAILTO:ov.altweerterheide@gmail.com
END:VEVENT
BEGIN:VEVENT
DTSTART;TZID=Europe/Amsterdam:20250622T190000
DTEND;TZID=Europe/Amsterdam:20250622T223000
DTSTAMP:20260419T225712
CREATED:20241001T101535Z
LAST-MODIFIED:20241001T102319Z
UID:10001013-1750618800-1750631400@www.altweerterheide.nl
SUMMARY:De verloren slag van de Van Hornes: Oorlog en liefde in 1485
DESCRIPTION:Een muziekspektakel met als onderwerp de veldslag die in 1485 in de regio Weert plaatsvonden tussen de troepen van Van Horne uit Weert en de uit Luik afkomstige huurlingen van de familie van der Marck.\nVanaf een buitentribune geniet u van prachtige muziek door een 100-koppig orkest (bestaande uit de leden van de muziekkorpsen uit Stramproy\, Tungelroy en Weert-Zuid)\, toneel en spektakel.\nLeef mee met het lief en leed van de gewone mensen uit deze regio tegen de achtergrond van de (dreigende) veldslag. En leer meteen ook over het verleden van uw eigen streek.
URL:https://www.altweerterheide.nl/activiteit/de-verloren-slag-van-de-van-hornes-oorlog-en-liefde-in-1485/2025-06-22/
LOCATION:Tuurkesweg Tungelroy\, Nederland
CATEGORIES:Cultuur,Muziek
ORGANIZER;CN="Stg. muziekshow Weert-zuid Tungelroy Stramproy":MAILTO:mailto:gea.broens@achmearechtsbijstand.nl
END:VEVENT
BEGIN:VEVENT
DTSTART;TZID=Europe/Amsterdam:20250622T000000
DTEND;TZID=Europe/Amsterdam:20250622T000000
DTSTAMP:20260419T225712
CREATED:20250601T174357Z
LAST-MODIFIED:20250601T174357Z
UID:10001089-1750550400-1750550400@www.altweerterheide.nl
SUMMARY:Geen Heilige Mis in Altweerterheide
DESCRIPTION:10.00 H.Mis in Tungelroy met aansluitend processie\, van harte uitgenodigd!
URL:https://www.altweerterheide.nl/activiteit/geen-heilige-mis-in-altweerterheide/
LOCATION:Kimburg
CATEGORIES:Kerkdiensten
END:VEVENT
BEGIN:VEVENT
DTSTART;TZID=Europe/Amsterdam:20250621T190000
DTEND;TZID=Europe/Amsterdam:20250621T230000
DTSTAMP:20260419T225712
CREATED:20241219T195150Z
LAST-MODIFIED:20250605T114025Z
UID:10001036-1750532400-1750546800@www.altweerterheide.nl
SUMMARY:Happen & Stappen Buurtvereniging Karelke
DESCRIPTION:Voor onze leden van 16 en ouder heeft buurtvereniging “Karelke” al enkele jaren een vroege zomer activiteit “Happen & Stappen” georganiseerd.\nOok dit jaar zullen wij een wandeltocht organiseren waar we op enkele strategische plekken de smaakpapillen blij te maken. \nEen schrijven van onze vereniging\, waar u meer gedetailleerde informatie kunt vinden\, zal u in de bus kunnen treffen
URL:https://www.altweerterheide.nl/activiteit/stappen-happen/
LOCATION:Kern dorp Altweerterheide
END:VEVENT
BEGIN:VEVENT
DTSTART;TZID=Europe/Amsterdam:20250621T190000
DTEND;TZID=Europe/Amsterdam:20250621T223000
DTSTAMP:20260419T225712
CREATED:20241001T101535Z
LAST-MODIFIED:20241001T102319Z
UID:10001012-1750532400-1750545000@www.altweerterheide.nl
SUMMARY:De verloren slag van de Van Hornes: Oorlog en liefde in 1485
DESCRIPTION:Een muziekspektakel met als onderwerp de veldslag die in 1485 in de regio Weert plaatsvonden tussen de troepen van Van Horne uit Weert en de uit Luik afkomstige huurlingen van de familie van der Marck.\nVanaf een buitentribune geniet u van prachtige muziek door een 100-koppig orkest (bestaande uit de leden van de muziekkorpsen uit Stramproy\, Tungelroy en Weert-Zuid)\, toneel en spektakel.\nLeef mee met het lief en leed van de gewone mensen uit deze regio tegen de achtergrond van de (dreigende) veldslag. En leer meteen ook over het verleden van uw eigen streek.
URL:https://www.altweerterheide.nl/activiteit/de-verloren-slag-van-de-van-hornes-oorlog-en-liefde-in-1485/2025-06-21/
LOCATION:Tuurkesweg Tungelroy\, Nederland
CATEGORIES:Cultuur,Muziek
ORGANIZER;CN="Stg. muziekshow Weert-zuid Tungelroy Stramproy":MAILTO:mailto:gea.broens@achmearechtsbijstand.nl
END:VEVENT
BEGIN:VEVENT
DTSTART;TZID=Europe/Amsterdam:20250620T190000
DTEND;TZID=Europe/Amsterdam:20250620T223000
DTSTAMP:20260419T225712
CREATED:20241001T101535Z
LAST-MODIFIED:20241001T102319Z
UID:10001011-1750446000-1750458600@www.altweerterheide.nl
SUMMARY:De verloren slag van de Van Hornes: Oorlog en liefde in 1485
DESCRIPTION:Een muziekspektakel met als onderwerp de veldslag die in 1485 in de regio Weert plaatsvonden tussen de troepen van Van Horne uit Weert en de uit Luik afkomstige huurlingen van de familie van der Marck.\nVanaf een buitentribune geniet u van prachtige muziek door een 100-koppig orkest (bestaande uit de leden van de muziekkorpsen uit Stramproy\, Tungelroy en Weert-Zuid)\, toneel en spektakel.\nLeef mee met het lief en leed van de gewone mensen uit deze regio tegen de achtergrond van de (dreigende) veldslag. En leer meteen ook over het verleden van uw eigen streek.
URL:https://www.altweerterheide.nl/activiteit/de-verloren-slag-van-de-van-hornes-oorlog-en-liefde-in-1485/2025-06-20/
LOCATION:Tuurkesweg Tungelroy\, Nederland
CATEGORIES:Cultuur,Muziek
ORGANIZER;CN="Stg. muziekshow Weert-zuid Tungelroy Stramproy":MAILTO:mailto:gea.broens@achmearechtsbijstand.nl
END:VEVENT
BEGIN:VEVENT
DTSTART;TZID=Europe/Amsterdam:20250615T110000
DTEND;TZID=Europe/Amsterdam:20250615T110000
DTSTAMP:20260419T225712
CREATED:20250601T174217Z
LAST-MODIFIED:20250601T174217Z
UID:10001088-1749985200-1749985200@www.altweerterheide.nl
SUMMARY:H.Mis Hoogfeest Allerheiligste Drieëenheid
DESCRIPTION:voor wijsheid voor onze wereldleiders\, voor vrede in de wereld. \nvoor wijsheid\, verzoening en verdraagzaamheid in onze omgeving. \n  \nKoster B. Lamerikx. lector W.Janssen
URL:https://www.altweerterheide.nl/activiteit/h-mis-hoogfeest-allerheiligste-drieeenheid/
LOCATION:Kerk parochie Heilig Hart van Jezus\, Bocholterweg 112\, Altweerterheide\, Limburg\, 6006 TN\, Nederland
CATEGORIES:Kerkdiensten
ATTACH;FMTTYPE=image/jpeg:https://www.altweerterheide.nl/wp-content/uploads/2024/07/kern3.jpg
ORGANIZER;CN="Parochie van het Heilig Hart van Jezus Altweerterheide":MAILTO:pastooramal@webparochie.nl
END:VEVENT
BEGIN:VEVENT
DTSTART;TZID=Europe/Amsterdam:20250614T140000
DTEND;TZID=Europe/Amsterdam:20250614T140000
DTSTAMP:20260419T225712
CREATED:20250331T102349Z
LAST-MODIFIED:20250405T095403Z
UID:10001078-1749909600-1749909600@www.altweerterheide.nl
SUMMARY:Straatfeest buurt Hei-Op
DESCRIPTION:Buurtvereniging Hei-Op heeft vandaag op het speelveldje aan Op den Das haar straatfeest.
URL:https://www.altweerterheide.nl/activiteit/buurtfeest-buurt-hei-op/
LOCATION:Speelveldje Op en Das\, Op den Das\, Altweerterheide
CATEGORIES:Ontspanning
ATTACH;FMTTYPE=image/jpeg:https://www.altweerterheide.nl/wp-content/uploads/2025/03/250331-logo-Hei-Op.jpg
END:VEVENT
BEGIN:VEVENT
DTSTART;TZID=Europe/Amsterdam:20250608T110000
DTEND;TZID=Europe/Amsterdam:20250608T110000
DTSTAMP:20260419T225712
CREATED:20250512T093958Z
LAST-MODIFIED:20250512T093958Z
UID:10001087-1749380400-1749380400@www.altweerterheide.nl
SUMMARY:H.Mis Hoogfeest van Pinksteren
DESCRIPTION:voor liefde en verbinding in de gezinnen\, voor voorspoed in de parochie. \nKoster en lector M. Peeters.
URL:https://www.altweerterheide.nl/activiteit/h-mis-hoogfeest-van-pinksteren-3/
LOCATION:Kerk parochie Heilig Hart van Jezus\, Bocholterweg 112\, Altweerterheide\, Limburg\, 6006 TN\, Nederland
CATEGORIES:Kerkdiensten
ORGANIZER;CN="Parochie van het Heilig Hart van Jezus Altweerterheide":MAILTO:pastooramal@webparochie.nl
END:VEVENT
BEGIN:VEVENT
DTSTART;TZID=Europe/Amsterdam:20250601T110000
DTEND;TZID=Europe/Amsterdam:20250601T110000
DTSTAMP:20260419T225712
CREATED:20250512T093646Z
LAST-MODIFIED:20250512T093646Z
UID:10001086-1748775600-1748775600@www.altweerterheide.nl
SUMMARY:H.Mis 7e zondag van Pasen
DESCRIPTION:voor Mart van Vroonhoven \nvoor Rudy Schutter \nvoor Non en Ton van Geneijgen en ouders \n  \nKostyer B. Lamerikx.  Lector W. Janssen
URL:https://www.altweerterheide.nl/activiteit/h-mis-7e-zondag-van-pasen/
LOCATION:Kerk parochie Heilig Hart van Jezus\, Bocholterweg 112\, Altweerterheide\, Limburg\, 6006 TN\, Nederland
CATEGORIES:Kerkdiensten
ATTACH;FMTTYPE=image/jpeg:https://www.altweerterheide.nl/wp-content/uploads/2024/07/kern3.jpg
ORGANIZER;CN="Parochie van het Heilig Hart van Jezus Altweerterheide":MAILTO:pastooramal@webparochie.nl
END:VEVENT
BEGIN:VEVENT
DTSTART;TZID=Europe/Amsterdam:20250525T110000
DTEND;TZID=Europe/Amsterdam:20250525T110000
DTSTAMP:20260419T225712
CREATED:20250512T093339Z
LAST-MODIFIED:20250512T093339Z
UID:10001085-1748170800-1748170800@www.altweerterheide.nl
SUMMARY:H.Mis 6e zondag van Pasen
DESCRIPTION:voor wijsheid voor onze wereldleiders\, voor vrede in de wereld. \n  \nLector en koster M.Peeters
URL:https://www.altweerterheide.nl/activiteit/h-mis-6e-zondag-van-pasen-2/
LOCATION:Kerk parochie Heilig Hart van Jezus\, Bocholterweg 112\, Altweerterheide\, Limburg\, 6006 TN\, Nederland
CATEGORIES:Kerkdiensten
ATTACH;FMTTYPE=image/jpeg:https://www.altweerterheide.nl/wp-content/uploads/2024/07/kern3.jpg
ORGANIZER;CN="Parochie van het Heilig Hart van Jezus Altweerterheide":MAILTO:pastooramal@webparochie.nl
END:VEVENT
BEGIN:VEVENT
DTSTART;TZID=Europe/Amsterdam:20250522T140000
DTEND;TZID=Europe/Amsterdam:20250522T140000
DTSTAMP:20260419T225712
CREATED:20250325T131003Z
LAST-MODIFIED:20250325T131003Z
UID:10001070-1747922400-1747922400@www.altweerterheide.nl
SUMMARY:Stads wandeling in Bree met de ouderenvereniging
DESCRIPTION:
URL:https://www.altweerterheide.nl/activiteit/stads-wandeling-in-bree-met-de-ouderenvereniging/
LOCATION:Kerk Bree (B)\, Belgium
CATEGORIES:Senioren
ATTACH;FMTTYPE=image/png:https://www.altweerterheide.nl/wp-content/uploads/2025/03/logo-ouderenvereniging.png
ORGANIZER;CN="ouderenvereniging Altweerterheide":MAILTO:ov.altweerterheide@gmail.com
END:VEVENT
BEGIN:VEVENT
DTSTART;TZID=Europe/Amsterdam:20250518T110000
DTEND;TZID=Europe/Amsterdam:20250518T110000
DTSTAMP:20260419T225712
CREATED:20250420T122249Z
LAST-MODIFIED:20250512T093023Z
UID:10001084-1747566000-1747566000@www.altweerterheide.nl
SUMMARY:5e zondag van Pasen
DESCRIPTION:Geen mis in verband met communieviering Stramproy.
URL:https://www.altweerterheide.nl/activiteit/5e-zondag-van-pasen/
LOCATION:Kerk parochie Heilig Hart van Jezus\, Bocholterweg 112\, Altweerterheide\, Limburg\, 6006 TN\, Nederland
CATEGORIES:Kerkdiensten
ATTACH;FMTTYPE=image/jpeg:https://www.altweerterheide.nl/wp-content/uploads/2024/07/kern3.jpg
ORGANIZER;CN="Parochie van het Heilig Hart van Jezus Altweerterheide":MAILTO:pastooramal@webparochie.nl
END:VEVENT
BEGIN:VEVENT
DTSTART;VALUE=DATE:20250518
DTEND;VALUE=DATE:20250520
DTSTAMP:20260419T225712
CREATED:20250321T141738Z
LAST-MODIFIED:20250321T141738Z
UID:10001067-1747533600-1747619999@www.altweerterheide.nl
SUMMARY:Kermis in Altweerterheide
DESCRIPTION:
URL:https://www.altweerterheide.nl/activiteit/kermis-in-altweerterheide-4/
LOCATION:Kerkplein\, Boholterweg 112\, Altweerterheide
CATEGORIES:Cultuur,Ontspanning
ATTACH;FMTTYPE=image/jpeg:https://www.altweerterheide.nl/wp-content/uploads/2024/01/gemeente-Weert.jpg
END:VEVENT
BEGIN:VEVENT
DTSTART;VALUE=DATE:20250517
DTEND;VALUE=DATE:20250519
DTSTAMP:20260419T225712
CREATED:20250321T141600Z
LAST-MODIFIED:20250321T141600Z
UID:10001066-1747447200-1747533599@www.altweerterheide.nl
SUMMARY:Kermis in Altweerterheide
DESCRIPTION:
URL:https://www.altweerterheide.nl/activiteit/kermis-in-altweerterheide-3/
LOCATION:Kerkplein\, Boholterweg 112\, Altweerterheide
CATEGORIES:Cultuur,Ontspanning
ATTACH;FMTTYPE=image/jpeg:https://www.altweerterheide.nl/wp-content/uploads/2024/01/gemeente-Weert.jpg
END:VEVENT
BEGIN:VEVENT
DTSTART;TZID=Europe/Amsterdam:20250511T190000
DTEND;TZID=Europe/Amsterdam:20250511T233000
DTSTAMP:20260419T225712
CREATED:20240927T092723Z
LAST-MODIFIED:20240927T092723Z
UID:10001008-1746990000-1747006200@www.altweerterheide.nl
SUMMARY:Wieerter Oorlogslaeve belaeve
DESCRIPTION:
URL:https://www.altweerterheide.nl/activiteit/wieerter-oorlogslaeve-belaeve-2/
LOCATION:Francuscushuis Biest
CATEGORIES:Cultuur
ATTACH;FMTTYPE=image/jpeg:https://www.altweerterheide.nl/wp-content/uploads/2024/09/80-jr-bevrijding-Weert-2024.jpeg
ORGANIZER;CN="Harmonie van het Heilig Hart Altweerterheide":MAILTO:info@harmonieheilighart.com
END:VEVENT
BEGIN:VEVENT
DTSTART;TZID=Europe/Amsterdam:20250511T140000
DTEND;TZID=Europe/Amsterdam:20250511T140000
DTSTAMP:20260419T225712
CREATED:20250318T113157Z
LAST-MODIFIED:20250318T113157Z
UID:10001064-1746972000-1746972000@www.altweerterheide.nl
SUMMARY:Wieerter Oorlogslaeve belaeve
DESCRIPTION:80 jaar vrijheid: dat is niet vanzelfsprekend. Dagelijks vernemen we via diverse media dat op meerdere plekken in de wereld mensen niet in vrijheid kunnen leven. Omdat we niet mogen vergeten is het belangrijk vrijheid te vieren\, het verleden te herdenken en een link te leggen met het heden en de toekomst. De link naar het Weerter verleden is door Peter Crins in beeld gebracht na gesprekken met oorlogsgetuigen uit Weert. Unieke beelden die nog nooit eerder zijn vertoond. In de bevrijdingsconcerten “Wieerter Oorlogslaeve Belaeve” kunt u getuige zijn van deze bijzondere verhalen. \n\n\nDe harmonie van het Heilig Hart Altweerterheide\, Mannenkoor Eendracht uit Swartbroek\, het Weerter Mannenkoor en de Geschied- en Oudheidkundige Kring Aldenborgh hebben de handen in elkaar geslagen om in het kader van 80 jaar bevrijding een project op te zetten waarin muziek\, beeld\, toneel en verhalen samen komen. \nEen Re-enactment groep (levende geschiedenis met uniek materiaal) neemt ons mee naar het verleden; en er is nog veel meer ….. \nKaartverkoop:  \nKaarten zijn verkrijgbaar via www.munttheater.nl / 0495 513 575 en \nkosten € 17\,50 (voor kinderen t/m 12 jaar is de prijs € 7\,50).
URL:https://www.altweerterheide.nl/activiteit/wieerter-oorlogslaeve-belaeve-4/
LOCATION:Francuscushuis Biest
CATEGORIES:Cultuur,Muziek,Ontspanning
ATTACH;FMTTYPE=image/jpeg:https://www.altweerterheide.nl/wp-content/uploads/2025/03/250318-klein-logo-bevrijdingsconcert.jpg
ORGANIZER;CN="Harmonie van het Heilig Hart Altweerterheide":MAILTO:info@harmonieheilighart.com
END:VEVENT
BEGIN:VEVENT
DTSTART;TZID=Europe/Amsterdam:20250511T110000
DTEND;TZID=Europe/Amsterdam:20250511T110000
DTSTAMP:20260419T225712
CREATED:20250420T122022Z
LAST-MODIFIED:20250420T122022Z
UID:10001083-1746961200-1746961200@www.altweerterheide.nl
SUMMARY:H.Mis 4e zondag van Pasen
DESCRIPTION:voor Sjeng Lempens (6 wknd) \nvoor Drina Tullemans-Smeets \nKoster en lector M. Peeters
URL:https://www.altweerterheide.nl/activiteit/h-mis-4e-zondag-van-pasen/
LOCATION:Kerk parochie Heilig Hart van Jezus\, Bocholterweg 112\, Altweerterheide\, Limburg\, 6006 TN\, Nederland
CATEGORIES:Kerkdiensten
ATTACH;FMTTYPE=image/jpeg:https://www.altweerterheide.nl/wp-content/uploads/2024/07/kern3.jpg
ORGANIZER;CN="Parochie van het Heilig Hart van Jezus Altweerterheide":MAILTO:pastooramal@webparochie.nl
END:VEVENT
BEGIN:VEVENT
DTSTART;TZID=Europe/Amsterdam:20250510T193000
DTEND;TZID=Europe/Amsterdam:20250510T193000
DTSTAMP:20260419T225712
CREATED:20250318T112803Z
LAST-MODIFIED:20250318T112803Z
UID:10001063-1746905400-1746905400@www.altweerterheide.nl
SUMMARY:Wieerter Oorlogslaeve belaeve
DESCRIPTION:80 jaar vrijheid: dat is niet vanzelfsprekend. Dagelijks vernemen we via diverse media dat op meerdere plekken in de wereld mensen niet in vrijheid kunnen leven. Omdat we niet mogen vergeten is het belangrijk vrijheid te vieren\, het verleden te herdenken en een link te leggen met het heden en de toekomst. De link naar het Weerter verleden is door Peter Crins in beeld gebracht na gesprekken met oorlogsgetuigen uit Weert. Unieke beelden die nog nooit eerder zijn vertoond. In de bevrijdingsconcerten “Wieerter Oorlogslaeve Belaeve” kunt u getuige zijn van deze bijzondere verhalen. \n  \n  \nDe harmonie van het Heilig Hart Altweerterheide\, Mannenkoor Eendracht uit Swartbroek\, het Weerter Mannenkoor en de Geschied- en Oudheidkundige Kring Aldenborgh hebben de handen in elkaar geslagen om in het kader van 80 jaar bevrijding een project op te zetten waarin muziek\, beeld\, toneel en verhalen samen komen. \nEen Re-enactment groep (levende geschiedenis met uniek materiaal) neemt ons mee naar het verleden; en er is nog veel meer ….. \n  \nKaartverkoop:  \nKaarten zijn verkrijgbaar via www.munttheater.nl / 0495 513 575 en \nkosten € 17\,50 (voor kinderen t/m 12 jaar is de prijs € 7\,50).
URL:https://www.altweerterheide.nl/activiteit/wieerter-oorlogslaeve-belaeve-3/
LOCATION:Franciscushuis\, Biest\, Weert
CATEGORIES:Cultuur,Ontspanning
ATTACH;FMTTYPE=image/jpeg:https://www.altweerterheide.nl/wp-content/uploads/2025/03/250318-klein-logo-bevrijdingsconcert.jpg
ORGANIZER;CN="Harmonie van het Heilig Hart Altweerterheide":MAILTO:info@harmonieheilighart.com
END:VEVENT
BEGIN:VEVENT
DTSTART;TZID=Europe/Amsterdam:20250510T190000
DTEND;TZID=Europe/Amsterdam:20250510T233000
DTSTAMP:20260419T225712
CREATED:20240927T092547Z
LAST-MODIFIED:20240927T092547Z
UID:10001007-1746903600-1746919800@www.altweerterheide.nl
SUMMARY:Wieerter Oorlogslaeve belaeve
DESCRIPTION:
URL:https://www.altweerterheide.nl/activiteit/wieerter-oorlogslaeve-belaeve/
LOCATION:Francuscushuis Biest
CATEGORIES:Cultuur
ATTACH;FMTTYPE=image/jpeg:https://www.altweerterheide.nl/wp-content/uploads/2024/09/80-jr-bevrijding-Weert-2024.jpeg
ORGANIZER;CN="Harmonie van het Heilig Hart Altweerterheide":MAILTO:info@harmonieheilighart.com
END:VEVENT
BEGIN:VEVENT
DTSTART;TZID=Europe/Amsterdam:20250504T191500
DTEND;TZID=Europe/Amsterdam:20250504T203000
DTSTAMP:20260419T225712
CREATED:20250412T101553Z
LAST-MODIFIED:20250412T101816Z
UID:10001082-1746386100-1746390600@www.altweerterheide.nl
SUMMARY:4 mei herdenking bij het monument aan de Bocholterweg Altweerterrheide
DESCRIPTION:Programma Herdenking. \n19.20 uur Bijeenkomst bij monument \n19.30 uur Opening. \n19.35 uur Gedichten voordracht. \n19.50 uur Kranslegging en 15 rozen met vernoemen namen. \n19.55 uur Signaal Taptoe \n20.00 uur Twee minuten stilte \n20.02 uur Wilhelmus 1 couplet.
URL:https://www.altweerterheide.nl/activiteit/4-mei-herdenking-bij-het-monument-aan-de-bocholterweg-altweerterrheide/
LOCATION:Monument Gevallen piloten RAF\, Bocholterweg\, Altweerterheide\, Limburg\, Nederland
CATEGORIES:Cultuur
ATTACH;FMTTYPE=image/jpeg:https://www.altweerterheide.nl/wp-content/uploads/2024/04/Logo-4-mei-ZW77.jpg
END:VEVENT
BEGIN:VEVENT
DTSTART;TZID=Europe/Amsterdam:20250504T110000
DTEND;TZID=Europe/Amsterdam:20250504T110000
DTSTAMP:20260419T225712
CREATED:20250405T103338Z
LAST-MODIFIED:20250405T103406Z
UID:10001081-1746356400-1746356400@www.altweerterheide.nl
SUMMARY:H.Mis 3e zondag van Pasen
DESCRIPTION:voor liefde en stabiliteit in onze gezinnen \n  \nKoster B. Lamerikx lector W. Janssen
URL:https://www.altweerterheide.nl/activiteit/h-mis-3e-zondag-van-pasen-3/
LOCATION:Kerk parochie Heilig Hart van Jezus\, Bocholterweg 112\, Altweerterheide\, Limburg\, 6006 TN\, Nederland
CATEGORIES:Kerkdiensten
ATTACH;FMTTYPE=image/jpeg:https://www.altweerterheide.nl/wp-content/uploads/2024/07/kern3.jpg
ORGANIZER;CN="Parochie van het Heilig Hart van Jezus Altweerterheide":MAILTO:pastooramal@webparochie.nl
END:VEVENT
BEGIN:VEVENT
DTSTART;TZID=Europe/Amsterdam:20250427T110000
DTEND;TZID=Europe/Amsterdam:20250427T110000
DTSTAMP:20260419T225712
CREATED:20250405T103112Z
LAST-MODIFIED:20250405T103112Z
UID:10001080-1745751600-1745751600@www.altweerterheide.nl
SUMMARY:H.Mis 2e zondag van Pasen (Beloken Pasen)
DESCRIPTION:voor verdraagzaamheid en vrede in de wereld \n  \nKoster en lector M. Peeters
URL:https://www.altweerterheide.nl/activiteit/h-mis-2e-zondag-van-pasen-beloken-pasen-3/
LOCATION:Kerk parochie Heilig Hart van Jezus\, Bocholterweg 112\, Altweerterheide\, Limburg\, 6006 TN\, Nederland
CATEGORIES:Kerkdiensten
ATTACH;FMTTYPE=image/jpeg:https://www.altweerterheide.nl/wp-content/uploads/2024/07/kern3.jpg
ORGANIZER;CN="Parochie van het Heilig Hart van Jezus Altweerterheide":MAILTO:pastooramal@webparochie.nl
END:VEVENT
BEGIN:VEVENT
DTSTART;TZID=Europe/Amsterdam:20250424T140000
DTEND;TZID=Europe/Amsterdam:20250424T140000
DTSTAMP:20260419T225712
CREATED:20250325T130747Z
LAST-MODIFIED:20250325T130747Z
UID:10001069-1745503200-1745503200@www.altweerterheide.nl
SUMMARY:Kienen/kaarten met de ouderenvereniging
DESCRIPTION:
URL:https://www.altweerterheide.nl/activiteit/kienen-kaarten-met-de-ouderenvereniging/
LOCATION:Sportpark Op den Das\, Bocholterweg\, Aktweerterheide\, Kimburg\, Nederland
CATEGORIES:Senioren
ATTACH;FMTTYPE=image/png:https://www.altweerterheide.nl/wp-content/uploads/2025/03/logo-ouderenvereniging.png
ORGANIZER;CN="ouderenvereniging Altweerterheide":MAILTO:ov.altweerterheide@gmail.com
END:VEVENT
BEGIN:VEVENT
DTSTART;TZID=Europe/Amsterdam:20250424T140000
DTEND;TZID=Europe/Amsterdam:20250424T140000
DTSTAMP:20260419T225712
CREATED:20250219T111532Z
LAST-MODIFIED:20250219T111532Z
UID:10001057-1745503200-1745503200@www.altweerterheide.nl
SUMMARY:Kienen Kaarten en Keuvelen met de ouderenvereniging Altweerterheide
DESCRIPTION:Vandaag kunnen de houderen van ons dorp gaan kienen\, kaarten of keuvelen met elkaar in de kantine van sportpark Op den Das.
URL:https://www.altweerterheide.nl/activiteit/kienen-kaarten-en-keuvelen-met-de-ouderenvereniging-altweerterheide/
LOCATION:Sportpark Op den Das\, Bocholterweg\, Aktweerterheide\, Kimburg\, Nederland
CATEGORIES:Senioren
ATTACH;FMTTYPE=image/jpeg:https://www.altweerterheide.nl/wp-content/uploads/2025/02/logo-ouderenvereniging-Altweerterheide.jpg
ORGANIZER;CN="ouderenvereniging Altweerterheide":MAILTO:ov.altweerterheide@gmail.com
END:VEVENT
BEGIN:VEVENT
DTSTART;TZID=Europe/Amsterdam:20250420T000000
DTEND;TZID=Europe/Amsterdam:20250420T000000
DTSTAMP:20260419T225712
CREATED:20250312T105657Z
LAST-MODIFIED:20250312T105657Z
UID:10001062-1745107200-1745107200@www.altweerterheide.nl
SUMMARY:Hoogfeest van Pasen\, geen H.Mis in Altweerterheide
DESCRIPTION:
URL:https://www.altweerterheide.nl/activiteit/hoogfeest-van-pasen-geen-h-mis-in-altweerterheide/
LOCATION:Kimburg
CATEGORIES:Kerkdiensten
ATTACH;FMTTYPE=image/jpeg:https://www.altweerterheide.nl/wp-content/uploads/2024/07/kern3.jpg
END:VEVENT
END:VCALENDAR