BEGIN:VCALENDAR
VERSION:2.0
PRODID:-//Dorpsraad Altweerterheide - ECPv6.15.18//NONSGML v1.0//EN
CALSCALE:GREGORIAN
METHOD:PUBLISH
X-WR-CALNAME:Dorpsraad Altweerterheide
X-ORIGINAL-URL:https://www.altweerterheide.nl
X-WR-CALDESC:Evenementen voor Dorpsraad Altweerterheide
REFRESH-INTERVAL;VALUE=DURATION:PT1H
X-Robots-Tag:noindex
X-PUBLISHED-TTL:PT1H
BEGIN:VTIMEZONE
TZID:Europe/Amsterdam
BEGIN:DAYLIGHT
TZOFFSETFROM:+0100
TZOFFSETTO:+0200
TZNAME:CEST
DTSTART:20230326T010000
END:DAYLIGHT
BEGIN:STANDARD
TZOFFSETFROM:+0200
TZOFFSETTO:+0100
TZNAME:CET
DTSTART:20231029T010000
END:STANDARD
BEGIN:DAYLIGHT
TZOFFSETFROM:+0100
TZOFFSETTO:+0200
TZNAME:CEST
DTSTART:20240331T010000
END:DAYLIGHT
BEGIN:STANDARD
TZOFFSETFROM:+0200
TZOFFSETTO:+0100
TZNAME:CET
DTSTART:20241027T010000
END:STANDARD
BEGIN:DAYLIGHT
TZOFFSETFROM:+0100
TZOFFSETTO:+0200
TZNAME:CEST
DTSTART:20250330T010000
END:DAYLIGHT
BEGIN:STANDARD
TZOFFSETFROM:+0200
TZOFFSETTO:+0100
TZNAME:CET
DTSTART:20251026T010000
END:STANDARD
END:VTIMEZONE
BEGIN:VEVENT
DTSTART;TZID=Europe/Amsterdam:20240623T110000
DTEND;TZID=Europe/Amsterdam:20240623T110000
DTSTAMP:20260421T092949
CREATED:20240529T112353Z
LAST-MODIFIED:20240529T112353Z
UID:10000972-1719140400-1719140400@www.altweerterheide.nl
SUMMARY:H.Mis 12e zondag door het jaar
DESCRIPTION:voor Piet Bonten en Nelly Bonten-Linders \n  \nKoster en lector M. Peeters
URL:https://www.altweerterheide.nl/activiteit/h-mis-12e-zondag-door-het-jaar/
LOCATION:Kerk parochie Heilig Hart van Jezus\, Bocholterweg 112\, Altweerterheide\, Limburg\, 6006 TN\, Nederland
CATEGORIES:Kerkdiensten
ATTACH;FMTTYPE=image/jpeg:https://www.altweerterheide.nl/wp-content/uploads/2024/01/Dorpsraad-Altweerterheide-Ons-Dorp-05.jpg
ORGANIZER;CN="Parochie van het Heilig Hart van Jezus Altweerterheide":MAILTO:pastooramal@webparochie.nl
END:VEVENT
BEGIN:VEVENT
DTSTART;TZID=Europe/Amsterdam:20240622T183000
DTEND;TZID=Europe/Amsterdam:20240622T183000
DTSTAMP:20260421T092949
CREATED:20240503T073622Z
LAST-MODIFIED:20240509T134304Z
UID:10000956-1719081000-1719081000@www.altweerterheide.nl
SUMMARY:“Happen & Stappen” leden buurtvereniging Karelke
DESCRIPTION:De jaarlijkse vroege zomer activiteit “Happen & Stappen” voor de leden van de vereniging van 16 jaar en ouder. Met een gids wordt een wandeltocht georganiseerd. Op deze prachtige tocht wordt op diverse plekken door ons “keukenteam” een hapje en een drankje aangeboden. \nLeden van onze vereniging ontvangen nog een uitnodiging in hun brievenbus.
URL:https://www.altweerterheide.nl/activiteit/happen-stappen-leden-buurtvereniging-karelke/
LOCATION:voormalige camping “De IJzerenman”\, Nederland
CATEGORIES:Ontspanning
ATTACH;FMTTYPE=image/jpeg:https://www.altweerterheide.nl/wp-content/uploads/2024/05/Karelke.jpeg
END:VEVENT
BEGIN:VEVENT
DTSTART;TZID=Europe/Amsterdam:20240621T190000
DTEND;TZID=Europe/Amsterdam:20240621T190000
DTSTAMP:20260421T092949
CREATED:20240203T153630Z
LAST-MODIFIED:20240203T153630Z
UID:10000900-1718996400-1718996400@www.altweerterheide.nl
SUMMARY:MEGA concert leerlingen Kindcentrum en Harmonie
DESCRIPTION:Na een jaar muziekles gaan de leerlingen van het Kindcentrum optreden voor ouders\, broertjes en zusjes\, opa’s en oma’s en iedereen die het leuk vindt om te komen luisteren. Ze treden op in groepjes maar ook samen met de grote harmonie.
URL:https://www.altweerterheide.nl/activiteit/mega-concert-leerlingen-kindcentrum-en-harmonie/
LOCATION:Kindcentrum Altweerterheide\, Herenvennenweg\, Altweerterheide\, Nederland
CATEGORIES:Cultuur,Muziek
ATTACH;FMTTYPE=image/jpeg:https://www.altweerterheide.nl/wp-content/uploads/2024/02/voorspeelochtend-2024-scaled.jpeg
ORGANIZER;CN="Harmonie van het Heilig Hart Altweerterheide":MAILTO:info@harmonieheilighart.com
END:VEVENT
BEGIN:VEVENT
DTSTART;TZID=Europe/Amsterdam:20240620T200000
DTEND;TZID=Europe/Amsterdam:20240620T220000
DTSTAMP:20260421T092949
CREATED:20240115T151249Z
LAST-MODIFIED:20240115T151249Z
UID:10000817-1718913600-1718920800@www.altweerterheide.nl
SUMMARY:Vergadering van de Dorpsraad
DESCRIPTION:De vergadering is voor iedereen vrij toegankelijk. \nHierin worden alle zaken besproken die vanuit de gemeente bij de dorpsraad terecht komen. Ook vanuit het dorp zelf mogen mensen zich melden met thema’s. \n 
URL:https://www.altweerterheide.nl/activiteit/vergadering-van-de-dorpsraad/2024-06-20/
LOCATION:Nederland
CATEGORIES:Bestuur
ATTACH;FMTTYPE=:
END:VEVENT
BEGIN:VEVENT
DTSTART;TZID=Europe/Amsterdam:20240616T120000
DTEND;TZID=Europe/Amsterdam:20240616T120000
DTSTAMP:20260421T092949
CREATED:20240502T145153Z
LAST-MODIFIED:20240502T145153Z
UID:10000955-1718539200-1718539200@www.altweerterheide.nl
SUMMARY:Kermis in Altweerterheide!
DESCRIPTION:Vandaag de tweede en laatste dag van de kermis in Altweerterheide. \nVandaag is ondermeer de dorpsbrunch en een bal champettre. \nAlles vindt plaats op een sportveld bij sportpark Op den Das vanwege werkzaamheden in de kern van Altweerterheide.
URL:https://www.altweerterheide.nl/activiteit/kermis-in-altweerterheide-2/
LOCATION:Sportpark Op den Das\, Bocholterweg\, Aktweerterheide\, Kimburg\, Nederland
CATEGORIES:Ontspanning
ATTACH;FMTTYPE=image/jpeg:https://www.altweerterheide.nl/wp-content/uploads/2023/05/Dorpsraad-Kermis.jpg
ORGANIZER;CN="Bestuur dorpsraad Altweerterheide":MAILTO:info@altweerterheide.nl
END:VEVENT
BEGIN:VEVENT
DTSTART;TZID=Europe/Amsterdam:20240616T110000
DTEND;TZID=Europe/Amsterdam:20240616T110000
DTSTAMP:20260421T092949
CREATED:20240610T122037Z
LAST-MODIFIED:20240610T122037Z
UID:10000973-1718535600-1718535600@www.altweerterheide.nl
SUMMARY:H.Mis 11e zondag door het jaar
DESCRIPTION:voor Piet Bonten en Nelly Bonten-Linders (off) \n\nKoster B. Lamerikx \nLector W. Janssen
URL:https://www.altweerterheide.nl/activiteit/h-mis-11e-zondag-door-het-jaar-2/
LOCATION:Kerk parochie Heilig Hart van Jezus\, Bocholterweg 112\, Altweerterheide\, Limburg\, 6006 TN\, Nederland
CATEGORIES:Kerkdiensten
ATTACH;FMTTYPE=image/jpeg:https://www.altweerterheide.nl/wp-content/uploads/2024/01/Dorpsraad-Altweerterheide-Ons-Dorp-05.jpg
ORGANIZER;CN="Parochie van het Heilig Hart van Jezus Altweerterheide":MAILTO:pastooramal@webparochie.nl
END:VEVENT
BEGIN:VEVENT
DTSTART;TZID=Europe/Amsterdam:20240616T110000
DTEND;TZID=Europe/Amsterdam:20240616T110000
DTSTAMP:20260421T092949
CREATED:20240529T112125Z
LAST-MODIFIED:20240529T112125Z
UID:10000971-1718535600-1718535600@www.altweerterheide.nl
SUMMARY:H.Mis 11e zondag door het jaar
DESCRIPTION:voor Piet Bonten en Nelly Bonten-Linders (off) \n  \nKoster B. Lamerikx                lector W. Janssen
URL:https://www.altweerterheide.nl/activiteit/h-mis-11e-zondag-door-het-jaar/
LOCATION:Kerk parochie Heilig Hart van Jezus\, Bocholterweg 112\, Altweerterheide\, Limburg\, 6006 TN\, Nederland
CATEGORIES:Kerkdiensten
ATTACH;FMTTYPE=image/jpeg:https://www.altweerterheide.nl/wp-content/uploads/2024/01/Dorpsraad-Altweerterheide-Ons-Dorp-05.jpg
ORGANIZER;CN="Parochie van het Heilig Hart van Jezus Altweerterheide":MAILTO:pastooramal@webparochie.nl
END:VEVENT
BEGIN:VEVENT
DTSTART;TZID=Europe/Amsterdam:20240615T150000
DTEND;TZID=Europe/Amsterdam:20240615T150000
DTSTAMP:20260421T092949
CREATED:20240502T144727Z
LAST-MODIFIED:20240502T144727Z
UID:10000954-1718463600-1718463600@www.altweerterheide.nl
SUMMARY:Kermis in Altweerterheide!
DESCRIPTION:Vandaag is de eerste dag van twee dagen kermis in Altweerterheide. \nDe kermiscommissie heeft weer gezorgd voor twee mooie dagen met tal van evenementen. \nVanwege de opknap beurt van de kern van Altweerterheide zijn we uitgeweken naar een sportveld van sporthal Op den Das.
URL:https://www.altweerterheide.nl/activiteit/kermis-in-altweerterheide/
LOCATION:Sportpark Op den Das\, Bocholterweg\, Aktweerterheide\, Kimburg\, Nederland
CATEGORIES:Ontspanning
ATTACH;FMTTYPE=image/jpeg:https://www.altweerterheide.nl/wp-content/uploads/2023/05/Kermis-2023.jpg
END:VEVENT
BEGIN:VEVENT
DTSTART;TZID=Europe/Amsterdam:20240609T110000
DTEND;TZID=Europe/Amsterdam:20240609T110000
DTSTAMP:20260421T092949
CREATED:20240529T111847Z
LAST-MODIFIED:20240529T111847Z
UID:10000970-1717930800-1717930800@www.altweerterheide.nl
SUMMARY:H.Mis 10e zondag door het jaar
DESCRIPTION:Feest van het H.Hart van Jezus \n Dankviering met de communicanten \n  voor welzijn van onze parochie \n  voor Mart van Vroonhoven \n  \nKoster en  lector \nM. Peeters \n 
URL:https://www.altweerterheide.nl/activiteit/h-mis-10e-zondag-door-het-jaar-2/
LOCATION:Kerk parochie Heilig Hart van Jezus\, Bocholterweg 112\, Altweerterheide\, Limburg\, 6006 TN\, Nederland
CATEGORIES:Kerkdiensten
ATTACH;FMTTYPE=image/jpeg:https://www.altweerterheide.nl/wp-content/uploads/2024/01/Dorpsraad-Altweerterheide-Ons-Dorp-05.jpg
ORGANIZER;CN="Parochie van het Heilig Hart van Jezus Altweerterheide":MAILTO:pastooramal@webparochie.nl
END:VEVENT
BEGIN:VEVENT
DTSTART;TZID=Europe/Amsterdam:20240609T110000
DTEND;TZID=Europe/Amsterdam:20240609T110000
DTSTAMP:20260421T092949
CREATED:20240513T154745Z
LAST-MODIFIED:20240513T154822Z
UID:10000964-1717930800-1717930800@www.altweerterheide.nl
SUMMARY:H.Mis 10e zondag door het jaar
DESCRIPTION:voor welzijn van onze parochie voor Mart van Vroonhoven \n  \nLector en koster M. Peeters.
URL:https://www.altweerterheide.nl/activiteit/h-mis-10e-zondag-door-het-jaar/
LOCATION:Kerk parochie Heilig Hart van Jezus\, Bocholterweg 112\, Altweerterheide\, Limburg\, 6006 TN\, Nederland
CATEGORIES:Kerkdiensten
ATTACH;FMTTYPE=image/jpeg:https://www.altweerterheide.nl/wp-content/uploads/2024/01/Dorpsraad-Altweerterheide-Ons-Dorp-05.jpg
ORGANIZER;CN="Parochie van het Heilig Hart van Jezus Altweerterheide":MAILTO:pastooramal@webparochie.nl
END:VEVENT
BEGIN:VEVENT
DTSTART;TZID=Europe/Amsterdam:20240608T193000
DTEND;TZID=Europe/Amsterdam:20240608T220000
DTSTAMP:20260421T092949
CREATED:20240203T152756Z
LAST-MODIFIED:20240217T113942Z
UID:10000899-1717875000-1717884000@www.altweerterheide.nl
SUMMARY:Fantasy Concert
DESCRIPTION:We nemen je mee in de wereld van bekende sprookjes. Laat je verrassen met muziek ondersteund met filmbeelden en vertellers. In deze reis tref je o.a. aan: Peter en de Wolf\, Rapunzel\, Doornroosje\, de rattenvanger van Hamelen en de Bremer Stadsmuzikanten.
URL:https://www.altweerterheide.nl/activiteit/fantasy-concert/
LOCATION:Kerk parochie Heilig Hart van Jezus\, Bocholterweg 112\, Altweerterheide\, Limburg\, 6006 TN\, Nederland
CATEGORIES:Cultuur,Muziek
ATTACH;FMTTYPE=image/jpeg:https://www.altweerterheide.nl/wp-content/uploads/2024/02/HarmonieHeiligHart.jpeg
ORGANIZER;CN="Harmonie van het Heilig Hart Altweerterheide":MAILTO:info@harmonieheilighart.com
END:VEVENT
BEGIN:VEVENT
DTSTART;TZID=Europe/Amsterdam:20240602T110000
DTEND;TZID=Europe/Amsterdam:20240602T110000
DTSTAMP:20260421T092949
CREATED:20240529T111459Z
LAST-MODIFIED:20240529T111459Z
UID:10000969-1717326000-1717326000@www.altweerterheide.nl
SUMMARY:Geen H. Mis in Altweerterheide
DESCRIPTION:9.30 H.Mis in Tungelroy met aansluitend processie \n9e zondag door het jaar\, Hoogfeest Sacramentsdag.
URL:https://www.altweerterheide.nl/activiteit/geen-h-mis-in-altweerterheide-2/
LOCATION:Kerk parochie Heilig Hart van Jezus\, Bocholterweg 112\, Altweerterheide\, Limburg\, 6006 TN\, Nederland
CATEGORIES:Kerkdiensten
ATTACH;FMTTYPE=image/jpeg:https://www.altweerterheide.nl/wp-content/uploads/2024/01/Dorpsraad-Altweerterheide-Ons-Dorp-05.jpg
ORGANIZER;CN="Parochie van het Heilig Hart van Jezus Altweerterheide":MAILTO:pastooramal@webparochie.nl
END:VEVENT
BEGIN:VEVENT
DTSTART;TZID=Europe/Amsterdam:20240602T093000
DTEND;TZID=Europe/Amsterdam:20240602T093000
DTSTAMP:20260421T092949
CREATED:20240513T154522Z
LAST-MODIFIED:20240513T154522Z
UID:10000963-1717320600-1717320600@www.altweerterheide.nl
SUMMARY:Geen H. Mis in Altweerterheide 9.30 H.Mis in Tungelroy
DESCRIPTION:met aansluitend processie 9e zondag door het jaar\, Hoogfeest Sacramentsdag.
URL:https://www.altweerterheide.nl/activiteit/geen-h-mis-in-altweerterheide-9-30-h-mis-in-tungelroy/
LOCATION:Kerk parochie Heilig Hart van Jezus\, Bocholterweg 112\, Altweerterheide\, Limburg\, 6006 TN\, Nederland
CATEGORIES:Kerkdiensten
ATTACH;FMTTYPE=image/jpeg:https://www.altweerterheide.nl/wp-content/uploads/2024/01/Dorpsraad-Altweerterheide-Ons-Dorp-05.jpg
ORGANIZER;CN="Parochie van het Heilig Hart van Jezus Altweerterheide":MAILTO:pastooramal@webparochie.nl
END:VEVENT
BEGIN:VEVENT
DTSTART;TZID=Europe/Amsterdam:20240526T110000
DTEND;TZID=Europe/Amsterdam:20240526T110000
DTSTAMP:20260421T092949
CREATED:20240513T154317Z
LAST-MODIFIED:20240513T154317Z
UID:10000962-1716721200-1716721200@www.altweerterheide.nl
SUMMARY:Geen H. Mis in Altweerterheide 11.00 H.Mis in Stramproy
DESCRIPTION:met H.Communie viering in Stramproy
URL:https://www.altweerterheide.nl/activiteit/geen-h-mis-in-altweerterheide-11-00-h-mis-in-stramproy/
LOCATION:Kerk parochie Heilig Hart van Jezus\, Bocholterweg 112\, Altweerterheide\, Limburg\, 6006 TN\, Nederland
CATEGORIES:Kerkdiensten
ATTACH;FMTTYPE=image/jpeg:https://www.altweerterheide.nl/wp-content/uploads/2024/01/Dorpsraad-Altweerterheide-Ons-Dorp-05.jpg
ORGANIZER;CN="Parochie van het Heilig Hart van Jezus Altweerterheide":MAILTO:pastooramal@webparochie.nl
END:VEVENT
BEGIN:VEVENT
DTSTART;TZID=Europe/Amsterdam:20240526T110000
DTEND;TZID=Europe/Amsterdam:20240526T110000
DTSTAMP:20260421T092949
CREATED:20240429T111541Z
LAST-MODIFIED:20240429T111541Z
UID:10000953-1716721200-1716721200@www.altweerterheide.nl
SUMMARY:Geen H. Mis in Altweerterheide
DESCRIPTION:Vanwege Heilige communiemis in Stamproy.
URL:https://www.altweerterheide.nl/activiteit/geen-h-mis-in-altweerterheide/
CATEGORIES:Kerkdiensten
ATTACH;FMTTYPE=image/jpeg:https://www.altweerterheide.nl/wp-content/uploads/2024/01/Dorpsraad-Altweerterheide-Ons-Dorp-05.jpg
END:VEVENT
BEGIN:VEVENT
DTSTART;TZID=Europe/Amsterdam:20240526T100000
DTEND;TZID=Europe/Amsterdam:20240526T100000
DTSTAMP:20260421T092949
CREATED:20240220T150604Z
LAST-MODIFIED:20240220T150605Z
UID:10000912-1716717600-1716717600@www.altweerterheide.nl
SUMMARY:Jeugdmuziekochtend 2024
DESCRIPTION:Een volle zaal en jeugdmuzikanten vol talent!
URL:https://www.altweerterheide.nl/activiteit/jeugdmuziekochtend-2024/
LOCATION:Kindcentrum Altweerterheide\, Herenvennenweg\, Altweerterheide\, Nederland
CATEGORIES:Cultuur,Muziek
ATTACH;FMTTYPE=image/jpeg:https://www.altweerterheide.nl/wp-content/uploads/2024/02/muziekochtend-2024-harmonie.jpg
ORGANIZER;CN="Harmonie van het Heilig Hart Altweerterheide":MAILTO:info@harmonieheilighart.com
END:VEVENT
BEGIN:VEVENT
DTSTART;TZID=Europe/Amsterdam:20240526T100000
DTEND;TZID=Europe/Amsterdam:20240526T100000
DTSTAMP:20260421T092949
CREATED:20240203T154500Z
LAST-MODIFIED:20240217T113734Z
UID:10000901-1716717600-1716717600@www.altweerterheide.nl
SUMMARY:Jeugd muziek ochtend
DESCRIPTION:Alle jeugdleden van de harmonie treden deze ochtend op: van blokfluiters\, tot blazers en slagwerkers. Zowel als solist en in ensembles.\nHet schoolorkest en het tienerorkest zijn ook van de partij.\nMet deze muziekochtend laten we de grote varieteit van muziek in Altweerterheide zien. \nLoop gerust binnen\, de koffie staat dan voor u klaar!
URL:https://www.altweerterheide.nl/activiteit/jeugd-muziek-ochtend/
LOCATION:Kindcentrum Altweerterheide\, Herenvennenweg\, Altweerterheide\, Nederland
CATEGORIES:Cultuur,Muziek
ATTACH;FMTTYPE=image/jpeg:https://www.altweerterheide.nl/wp-content/uploads/2024/02/voorspeelzondag-2024-scaled.jpeg
ORGANIZER;CN="Harmonie van het Heilig Hart Altweerterheide":MAILTO:info@harmonieheilighart.com
END:VEVENT
BEGIN:VEVENT
DTSTART;TZID=Europe/Amsterdam:20240523T130000
DTEND;TZID=Europe/Amsterdam:20240523T130000
DTSTAMP:20260421T092949
CREATED:20240312T140623Z
LAST-MODIFIED:20240422T113016Z
UID:10000929-1716469200-1716469200@www.altweerterheide.nl
SUMMARY:Stadswandeling met de ouderenvereniging
DESCRIPTION:Vandaag gaat de ouderenvereniging een stadswandeling houden in Weert. We worden rond geleid door stadsgidsen.
URL:https://www.altweerterheide.nl/activiteit/met-de-ouderenvereniging-op-excursie/
LOCATION:Kasteelpark Weert\, Biest\, Weert\, Limburg\, Nederland
CATEGORIES:Senioren
ATTACH;FMTTYPE=image/jpeg:https://www.altweerterheide.nl/wp-content/uploads/2024/03/nijenborgh-Weert.jpeg
ORGANIZER;CN="ouderenvereniging Altweerterheide":MAILTO:ov.altweerterheide@gmail.com
END:VEVENT
BEGIN:VEVENT
DTSTART;TZID=Europe/Amsterdam:20240519T110000
DTEND;TZID=Europe/Amsterdam:20240519T110000
DTSTAMP:20260421T092949
CREATED:20240513T154041Z
LAST-MODIFIED:20240513T154041Z
UID:10000961-1716116400-1716116400@www.altweerterheide.nl
SUMMARY:H.Mis Hoogfeest van Pinksteren
DESCRIPTION:voor  de kinderen die vandaag hun 1e communie vieren\, voor een gezegende en mooie toekomst. \nKoster B. Lamerikx       Lecotres de communikantjes.
URL:https://www.altweerterheide.nl/activiteit/h-mis-hoogfeest-van-pinksteren-2/
LOCATION:Kerk parochie Heilig Hart van Jezus\, Bocholterweg 112\, Altweerterheide\, Limburg\, 6006 TN\, Nederland
CATEGORIES:Kerkdiensten
ATTACH;FMTTYPE=image/jpeg:https://www.altweerterheide.nl/wp-content/uploads/2024/01/Dorpsraad-Altweerterheide-Ons-Dorp-05.jpg
ORGANIZER;CN="Parochie van het Heilig Hart van Jezus Altweerterheide":MAILTO:pastooramal@webparochie.nl
END:VEVENT
BEGIN:VEVENT
DTSTART;TZID=Europe/Amsterdam:20240519T110000
DTEND;TZID=Europe/Amsterdam:20240519T110000
DTSTAMP:20260421T092949
CREATED:20240429T111257Z
LAST-MODIFIED:20240429T111257Z
UID:10000952-1716116400-1716116400@www.altweerterheide.nl
SUMMARY:H.Mis Hoogfeest van Pinksteren
DESCRIPTION:Voor  de kinderen die vandaag hun 1e communie vieren \nVoor overleden ouders en Lies Verhagen – Ramaekers \nVoor Jan Hermens en Lies Hermens – Stals vanwege verjaardag \nVoor Jac en Agnes Schuurman – Grooten \n  \nKoster B. Lamerikx. Geen lector.
URL:https://www.altweerterheide.nl/activiteit/h-mis-hoogfeest-van-pinksteren/
CATEGORIES:Kerkdiensten
ATTACH;FMTTYPE=image/jpeg:https://www.altweerterheide.nl/wp-content/uploads/2024/01/Dorpsraad-Altweerterheide-Ons-Dorp-05.jpg
END:VEVENT
BEGIN:VEVENT
DTSTART;TZID=Europe/Amsterdam:20240519T110000
DTEND;TZID=Europe/Amsterdam:20240519T110000
DTSTAMP:20260421T092949
CREATED:20240407T114226Z
LAST-MODIFIED:20240407T114644Z
UID:10000942-1716116400-1716116400@www.altweerterheide.nl
SUMMARY:Kinderen Altweerterheide doen de Communie
DESCRIPTION:In de Heilige Mis van 11.00 uur doen vandaag de kinderen van Altweerterheide de communie.
URL:https://www.altweerterheide.nl/activiteit/kinderen-altweerterheide-doen-de-communie/
LOCATION:Kerk parochie Heilig Hart van Jezus\, Bocholterweg 112\, Altweerterheide\, Limburg\, 6006 TN\, Nederland
CATEGORIES:Cultuur
ATTACH;FMTTYPE=image/jpeg:https://www.altweerterheide.nl/wp-content/uploads/2024/04/communie.jpeg
ORGANIZER;CN="Parochie van het Heilig Hart van Jezus Altweerterheide":MAILTO:pastooramal@webparochie.nl
END:VEVENT
BEGIN:VEVENT
DTSTART;TZID=Europe/Amsterdam:20240516T200000
DTEND;TZID=Europe/Amsterdam:20240516T220000
DTSTAMP:20260421T092949
CREATED:20240115T151249Z
LAST-MODIFIED:20240115T151249Z
UID:10000816-1715889600-1715896800@www.altweerterheide.nl
SUMMARY:Vergadering van de Dorpsraad
DESCRIPTION:De vergadering is voor iedereen vrij toegankelijk. \nHierin worden alle zaken besproken die vanuit de gemeente bij de dorpsraad terecht komen. Ook vanuit het dorp zelf mogen mensen zich melden met thema’s. \n 
URL:https://www.altweerterheide.nl/activiteit/vergadering-van-de-dorpsraad/2024-05-16/
LOCATION:Nederland
CATEGORIES:Bestuur
ATTACH;FMTTYPE=:
END:VEVENT
BEGIN:VEVENT
DTSTART;TZID=Europe/Amsterdam:20240512T110000
DTEND;TZID=Europe/Amsterdam:20240512T110000
DTSTAMP:20260421T092949
CREATED:20240429T110956Z
LAST-MODIFIED:20240429T110956Z
UID:10000951-1715511600-1715511600@www.altweerterheide.nl
SUMMARY:H.Mis 7e zondag van Pasen\, Pinksternoveen
DESCRIPTION:Voor Teng Verhagen (off) \nKoster en lector M. Peeters
URL:https://www.altweerterheide.nl/activiteit/h-mis-7e-zondag-van-pasen-pinksternoveen/
LOCATION:Kerk parochie Heilig Hart van Jezus\, Bocholterweg 112\, Altweerterheide\, Limburg\, 6006 TN\, Nederland
CATEGORIES:Kerkdiensten
ATTACH;FMTTYPE=image/jpeg:https://www.altweerterheide.nl/wp-content/uploads/2024/01/Dorpsraad-Altweerterheide-Ons-Dorp-05.jpg
ORGANIZER;CN="Parochie van het Heilig Hart van Jezus Altweerterheide":MAILTO:pastooramal@webparochie.nl
END:VEVENT
BEGIN:VEVENT
DTSTART;TZID=Europe/Amsterdam:20240512T110000
DTEND;TZID=Europe/Amsterdam:20240512T110000
DTSTAMP:20260421T092949
CREATED:20240414T112130Z
LAST-MODIFIED:20240414T112130Z
UID:10000947-1715511600-1715511600@www.altweerterheide.nl
SUMMARY:Heilige Mis
DESCRIPTION:Voor Teng Verhagen (off) \n  \nKoster en lector M. Peeters
URL:https://www.altweerterheide.nl/activiteit/heilige-mis-4/
LOCATION:Kerk parochie Heilig Hart van Jezus\, Bocholterweg 112\, Altweerterheide\, Limburg\, 6006 TN\, Nederland
CATEGORIES:Kerkdiensten
ATTACH;FMTTYPE=image/jpeg:https://www.altweerterheide.nl/wp-content/uploads/2024/01/Dorpsraad-Altweerterheide-Ons-Dorp-05.jpg
ORGANIZER;CN="Parochie van het Heilig Hart van Jezus Altweerterheide":MAILTO:pastooramal@webparochie.nl
END:VEVENT
BEGIN:VEVENT
DTSTART;TZID=Europe/Amsterdam:20240505T110000
DTEND;TZID=Europe/Amsterdam:20240505T110000
DTSTAMP:20260421T092949
CREATED:20240429T110653Z
LAST-MODIFIED:20240429T110653Z
UID:10000950-1714906800-1714906800@www.altweerterheide.nl
SUMMARY:H.Mis 6e zondag van Pasen
DESCRIPTION:Voor leden en overleden leden van het Ceciliakoor \n\n\nVoor Nelly Bonten – Linders en Piet Bonten (off) \n\n\nVoor Leen Schroeten – Hendrikx (6 wkn) \n\n\nVoor Drina Tullemans – Smeets \n\n\nKoster en lector M. Peeters
URL:https://www.altweerterheide.nl/activiteit/h-mis-6e-zondag-van-pasen/
LOCATION:Kerk parochie Heilig Hart van Jezus\, Bocholterweg 112\, Altweerterheide\, Limburg\, 6006 TN\, Nederland
CATEGORIES:Kerkdiensten
ORGANIZER;CN="Parochie van het Heilig Hart van Jezus Altweerterheide":MAILTO:pastooramal@webparochie.nl
END:VEVENT
BEGIN:VEVENT
DTSTART;TZID=Europe/Amsterdam:20240505T110000
DTEND;TZID=Europe/Amsterdam:20240505T110000
DTSTAMP:20260421T092949
CREATED:20240414T111839Z
LAST-MODIFIED:20240414T111839Z
UID:10000946-1714906800-1714906800@www.altweerterheide.nl
SUMMARY:Heilige Mis
DESCRIPTION:Voor leden en overleden leden van het Ceciliakoor \nVoor Nelly Bonten – Linders en Piet Bonten (off) \nVoor Leen Schroeten – Hendrikx (6 wkn) \n  \nKoster en Lector M. Peeters
URL:https://www.altweerterheide.nl/activiteit/heilige-mis-3/
LOCATION:Kerk parochie Heilig Hart van Jezus\, Bocholterweg 112\, Altweerterheide\, Limburg\, 6006 TN\, Nederland
CATEGORIES:Kerkdiensten
ATTACH;FMTTYPE=image/jpeg:https://www.altweerterheide.nl/wp-content/uploads/2024/01/Dorpsraad-Altweerterheide-Ons-Dorp-05.jpg
ORGANIZER;CN="Parochie van het Heilig Hart van Jezus Altweerterheide":MAILTO:pastooramal@webparochie.nl
END:VEVENT
BEGIN:VEVENT
DTSTART;TZID=Europe/Amsterdam:20240504T192000
DTEND;TZID=Europe/Amsterdam:20240504T192000
DTSTAMP:20260421T092949
CREATED:20240420T150430Z
LAST-MODIFIED:20240420T150431Z
UID:10000948-1714850400-1714850400@www.altweerterheide.nl
SUMMARY:Dodenherdenking Altweerterheide 2024
DESCRIPTION:Programma Herdenking. \n19.20 uur Bijeenkomst bij monument \n19.30 uur Opening. \n19.35 uur Gedichten voordracht. \n19.50 uur Kranslegging en 15 rozen met vernoemen namen. \n19.55 uur Signaal Taptoe \n20.00 uur Twee minuten stilte \n20.02 uur Wilhelmus 1 couplet.
URL:https://www.altweerterheide.nl/activiteit/dodenherdenking-altweerterheide-2024/
LOCATION:Monument Gevallen piloten RAF\, Bocholterweg\, Altweerterheide\, Limburg\, Nederland
CATEGORIES:Cultuur
ATTACH;FMTTYPE=image/jpeg:https://www.altweerterheide.nl/wp-content/uploads/2024/04/dodenherdenking-2.jpeg
ORGANIZER;CN="Bestuur dorpsraad Altweerterheide":MAILTO:info@altweerterheide.nl
END:VEVENT
BEGIN:VEVENT
DTSTART;TZID=Europe/Amsterdam:20240428T110000
DTEND;TZID=Europe/Amsterdam:20240428T110000
DTSTAMP:20260421T092949
CREATED:20240414T111547Z
LAST-MODIFIED:20240414T111547Z
UID:10000945-1714302000-1714302000@www.altweerterheide.nl
SUMMARY:Heilige Mis
DESCRIPTION:Voor de zielenrust van Jan Hubert Janssen (jrd) en Maria Helena Janssen – Aengeveld (jrd) \nKoster B. Lamerikx \nLector W. Janssen
URL:https://www.altweerterheide.nl/activiteit/heilige-mis-2/
LOCATION:Kerk parochie Heilig Hart van Jezus\, Bocholterweg 112\, Altweerterheide\, Limburg\, 6006 TN\, Nederland
CATEGORIES:Kerkdiensten
ATTACH;FMTTYPE=image/jpeg:https://www.altweerterheide.nl/wp-content/uploads/2024/01/Dorpsraad-Altweerterheide-Ons-Dorp-05.jpg
ORGANIZER;CN="Parochie van het Heilig Hart van Jezus Altweerterheide":MAILTO:pastooramal@webparochie.nl
END:VEVENT
BEGIN:VEVENT
DTSTART;TZID=Europe/Amsterdam:20240425T133000
DTEND;TZID=Europe/Amsterdam:20240425T133000
DTSTAMP:20260421T092949
CREATED:20240311T144945Z
LAST-MODIFIED:20240311T144945Z
UID:10000920-1714051800-1714051800@www.altweerterheide.nl
SUMMARY:Kienen/kaarten ouderenvereniging Altweerterheide
DESCRIPTION:Vandaag organiseert de ouderenvereniging Altweerterheide om 13.30 uur in de sportkantine een kien/kaartmiddag.
URL:https://www.altweerterheide.nl/activiteit/kienen-kaarten-ouderenvereniging-altweerterheide/
LOCATION:Sportkantine Sporthal Op den Das\, Bocholterweg 89\, Altweerterheide\, Limburg\, 6006 TL\, Nederland
CATEGORIES:Senioren
ATTACH;FMTTYPE=image/jpeg:https://www.altweerterheide.nl/wp-content/uploads/2024/03/kaarten-2024.jpeg
END:VEVENT
BEGIN:VEVENT
DTSTART;TZID=Europe/Amsterdam:20240423T193000
DTEND;TZID=Europe/Amsterdam:20240423T193000
DTSTAMP:20260421T092949
CREATED:20240313T125159Z
LAST-MODIFIED:20240313T125159Z
UID:10000930-1713900600-1713900600@www.altweerterheide.nl
SUMMARY:Voorjaarsvergadering Dorpsraad Altweerterheide
DESCRIPTION:Vanavond om 19.30 uur houdt het bestuur van de dorpsraad haar voorjaarsvergadering in het kindcentrum Altweerterheide. aanvang 19.30 uur.
URL:https://www.altweerterheide.nl/activiteit/voorjaarsvergadering-dorpsraad-altweerterheide/
LOCATION:Kindcentrum Altweerterheide\, Herenvennenweg\, Altweerterheide\, Nederland
CATEGORIES:Bestuur
ATTACH;FMTTYPE=image/jpeg:https://www.altweerterheide.nl/wp-content/uploads/2022/05/3D19EB14-6E55-441B-8F10-B80433AA0561.jpeg
ORGANIZER;CN="Bestuur dorpsraad Altweerterheide":MAILTO:info@altweerterheide.nl
END:VEVENT
END:VCALENDAR