BEGIN:VCALENDAR
VERSION:2.0
PRODID:-//Dorpsraad Altweerterheide - ECPv6.15.18//NONSGML v1.0//EN
CALSCALE:GREGORIAN
METHOD:PUBLISH
X-WR-CALNAME:Dorpsraad Altweerterheide
X-ORIGINAL-URL:https://www.altweerterheide.nl
X-WR-CALDESC:Evenementen voor Dorpsraad Altweerterheide
REFRESH-INTERVAL;VALUE=DURATION:PT1H
X-Robots-Tag:noindex
X-PUBLISHED-TTL:PT1H
BEGIN:VTIMEZONE
TZID:Europe/Amsterdam
BEGIN:DAYLIGHT
TZOFFSETFROM:+0100
TZOFFSETTO:+0200
TZNAME:CEST
DTSTART:20230326T010000
END:DAYLIGHT
BEGIN:STANDARD
TZOFFSETFROM:+0200
TZOFFSETTO:+0100
TZNAME:CET
DTSTART:20231029T010000
END:STANDARD
BEGIN:DAYLIGHT
TZOFFSETFROM:+0100
TZOFFSETTO:+0200
TZNAME:CEST
DTSTART:20240331T010000
END:DAYLIGHT
BEGIN:STANDARD
TZOFFSETFROM:+0200
TZOFFSETTO:+0100
TZNAME:CET
DTSTART:20241027T010000
END:STANDARD
BEGIN:DAYLIGHT
TZOFFSETFROM:+0100
TZOFFSETTO:+0200
TZNAME:CEST
DTSTART:20250330T010000
END:DAYLIGHT
BEGIN:STANDARD
TZOFFSETFROM:+0200
TZOFFSETTO:+0100
TZNAME:CET
DTSTART:20251026T010000
END:STANDARD
END:VTIMEZONE
BEGIN:VEVENT
DTSTART;VALUE=DATE:20241010
DTEND;VALUE=DATE:20241024
DTSTAMP:20260420T235707
CREATED:20240826T152313Z
LAST-MODIFIED:20240920T124307Z
UID:10000990-1728525600-1729648799@www.altweerterheide.nl
SUMMARY:Donateursactie CV de Heiknuites
DESCRIPTION:Deze week houdt cv de Heiknuiters haar donateursactie. Men komt huis aan huis met donateurskaarten. Hiermee steunt u de vastelaovendj in Altweerterheide. Met de donateurskaarten kunt U weer een kienkaart krijgen op de jaarlijkse kienavond op 9 november aanstaande.
URL:https://www.altweerterheide.nl/activiteit/donateursactie-cv-de-heiknuites/
LOCATION:Kern dorp Altweerterheide
CATEGORIES:Carnaval
ATTACH;FMTTYPE=image/jpeg:https://www.altweerterheide.nl/wp-content/uploads/2024/01/Dorpsraad-Carnaval-Ballonnen.jpg
ORGANIZER;CN="CV de Heiknuiters":MAILTO:info@heiknuiters.nl
END:VEVENT
BEGIN:VEVENT
DTSTART;TZID=Europe/Amsterdam:20241006T110000
DTEND;TZID=Europe/Amsterdam:20241006T110000
DTSTAMP:20260420T235707
CREATED:20240912T104102Z
LAST-MODIFIED:20240912T104102Z
UID:10000995-1728212400-1728212400@www.altweerterheide.nl
SUMMARY:H.Mis in Swartbroek vanwege 100 jaar bestaan
DESCRIPTION:Heilige Mis in Swartbroek in verband met 100 jaar parochie Swartbroek.
URL:https://www.altweerterheide.nl/activiteit/h-mis-in-swartbroek-vanwege-100-jaar-bestaan/
LOCATION:Kerk Swartbroek\, Nederland
CATEGORIES:Kerkdiensten
ATTACH;FMTTYPE=image/jpeg:https://www.altweerterheide.nl/wp-content/uploads/2024/01/Dorpsraad-Altweerterheide-Ons-Dorp-05.jpg
ORGANIZER;CN="Parochie van het Heilig Hart van Jezus Altweerterheide":MAILTO:pastooramal@webparochie.nl
END:VEVENT
BEGIN:VEVENT
DTSTART;TZID=Europe/Amsterdam:20241004T093000
DTEND;TZID=Europe/Amsterdam:20241004T093000
DTSTAMP:20260420T235707
CREATED:20240312T132832Z
LAST-MODIFIED:20240312T132832Z
UID:10000925-1728034200-1728034200@www.altweerterheide.nl
SUMMARY:excursie bakkerij Heerschap
DESCRIPTION:Vandaag organiseert de ouderenvereniging een uitstapje naar de bakkerij Heerschap in Nederweert.
URL:https://www.altweerterheide.nl/activiteit/excursie-bakkerij-heerschap/
LOCATION:Bakkerij Heerschap Nederweert\, Titaniumstraat 18\, Nederweert\, Limburg\, 6031 TV\, Nederland
CATEGORIES:Senioren
ATTACH;FMTTYPE=image/jpeg:https://www.altweerterheide.nl/wp-content/uploads/2024/03/Bakkerij-Heerschap.jpeg
ORGANIZER;CN="ouderenvereniging Altweerterheide":MAILTO:ov.altweerterheide@gmail.com
END:VEVENT
BEGIN:VEVENT
DTSTART;TZID=Europe/Amsterdam:20240930T193000
DTEND;TZID=Europe/Amsterdam:20240930T193000
DTSTAMP:20260420T235707
CREATED:20240901T124128Z
LAST-MODIFIED:20240901T124128Z
UID:10000993-1727724600-1727724600@www.altweerterheide.nl
SUMMARY:Vertoning 130 unieke foto's kinderen basisschool St. Jozef 1936-1948.
DESCRIPTION:Vanavond worden in de kerk van Altweerterheide ruim 130 foto’s vertoond van uniek werk van fotograaf Alphons Timmermans. \nOp de glazen negatieven stonden kinderen van basisschool St. Jozef Altweerterheide. Miet van Fien ofwel Mia Meuwissen heeft zoveel mogelijk gezorgd dat de goede namen bij de afgebeelde kinderen kwamen. \nDe avond wordt samen met de Aldenborgh georganiseerd.
URL:https://www.altweerterheide.nl/activiteit/vertoning-130-unieke-fotos-kinderen-basisschool-st-jozef-1936-1948/
LOCATION:Kerk parochie Heilig Hart van Jezus\, Bocholterweg 112\, Altweerterheide\, Limburg\, 6006 TN\, Nederland
CATEGORIES:Cultuur,Senioren
ATTACH;FMTTYPE=image/jpeg:https://www.altweerterheide.nl/wp-content/uploads/2024/09/Glazen-negatieven-voorstelling-2024.jpg
END:VEVENT
BEGIN:VEVENT
DTSTART;TZID=Europe/Amsterdam:20240929T110000
DTEND;TZID=Europe/Amsterdam:20240929T110000
DTSTAMP:20260420T235707
CREATED:20240829T124051Z
LAST-MODIFIED:20240829T124051Z
UID:10000992-1727607600-1727607600@www.altweerterheide.nl
SUMMARY:H.Mis\, 26e zondag door het jaar
DESCRIPTION:Voor Leen Schroeten-Hendrix (off.) \n  \nKoster B. Lamerikx \nLector W. Janssen
URL:https://www.altweerterheide.nl/activiteit/h-mis-26e-zondag-door-het-jaar/
LOCATION:Kerk parochie Heilig Hart van Jezus\, Bocholterweg 112\, Altweerterheide\, Limburg\, 6006 TN\, Nederland
CATEGORIES:Kerkdiensten
ATTACH;FMTTYPE=image/jpeg:https://www.altweerterheide.nl/wp-content/uploads/2024/01/Dorpsraad-Altweerterheide-Ons-Dorp-05.jpg
ORGANIZER;CN="Parochie van het Heilig Hart van Jezus Altweerterheide":MAILTO:pastooramal@webparochie.nl
END:VEVENT
BEGIN:VEVENT
DTSTART;TZID=Europe/Amsterdam:20240922T110000
DTEND;TZID=Europe/Amsterdam:20240922T110000
DTSTAMP:20260420T235707
CREATED:20240829T123807Z
LAST-MODIFIED:20240829T123807Z
UID:10000991-1727002800-1727002800@www.altweerterheide.nl
SUMMARY:H.Mis\, 25e zondag door het jaar
DESCRIPTION:Voor Nelly Bonten-Linders en Piet Bonten (off.) \n  \nLector en koster M. Peeters
URL:https://www.altweerterheide.nl/activiteit/h-mis-25e-zondag-door-het-jaar/
LOCATION:Kerk parochie Heilig Hart van Jezus\, Bocholterweg 112\, Altweerterheide\, Limburg\, 6006 TN\, Nederland
CATEGORIES:Kerkdiensten
ATTACH;FMTTYPE=image/jpeg:https://www.altweerterheide.nl/wp-content/uploads/2024/01/Dorpsraad-Altweerterheide-Ons-Dorp-05.jpg
ORGANIZER;CN="Parochie van het Heilig Hart van Jezus Altweerterheide":MAILTO:pastooramal@webparochie.nl
END:VEVENT
BEGIN:VEVENT
DTSTART;TZID=Europe/Amsterdam:20240922T100000
DTEND;TZID=Europe/Amsterdam:20240922T170000
DTSTAMP:20260420T235707
CREATED:20240319T150230Z
LAST-MODIFIED:20240319T150230Z
UID:10000936-1726999200-1727024400@www.altweerterheide.nl
SUMMARY:Boeken- en Platenmarkt Harmonie
DESCRIPTION:De harmonie van het Heilig Hart organiseert op 22 september 2024 een boeken- en platenmarkt in het Buurthuis Moesel (Christinelaan in Weert). U bent van harte welkom van 10.00 – 17.00 uur. De toegang is gratis.
URL:https://www.altweerterheide.nl/activiteit/boeken-en-platenmarkt-harmonie/
LOCATION:Buurthuis Moesel\, Christinelaan 25\, Weert\, Limburg\, 6006 CJ\, Nederland
CATEGORIES:Cultuur,Muziek,Ontspanning
ATTACH;FMTTYPE=image/jpeg:https://www.altweerterheide.nl/wp-content/uploads/2024/03/boekenmarkt-2024.jpeg
ORGANIZER;CN="Harmonie van het Heilig Hart Altweerterheide":MAILTO:info@harmonieheilighart.com
END:VEVENT
BEGIN:VEVENT
DTSTART;TZID=Europe/Amsterdam:20240919T200000
DTEND;TZID=Europe/Amsterdam:20240919T220000
DTSTAMP:20260420T235707
CREATED:20240115T151249Z
LAST-MODIFIED:20240115T151249Z
UID:10000819-1726776000-1726783200@www.altweerterheide.nl
SUMMARY:Vergadering van de Dorpsraad
DESCRIPTION:De vergadering is voor iedereen vrij toegankelijk. \nHierin worden alle zaken besproken die vanuit de gemeente bij de dorpsraad terecht komen. Ook vanuit het dorp zelf mogen mensen zich melden met thema’s. \n 
URL:https://www.altweerterheide.nl/activiteit/vergadering-van-de-dorpsraad/2024-09-19/
LOCATION:Limburg\, Nederland
CATEGORIES:Bestuur
ATTACH;FMTTYPE=:
END:VEVENT
BEGIN:VEVENT
DTSTART;TZID=Europe/Amsterdam:20240919T133000
DTEND;TZID=Europe/Amsterdam:20240919T133000
DTSTAMP:20260420T235707
CREATED:20240312T120004Z
LAST-MODIFIED:20240422T112345Z
UID:10000924-1726752600-1726752600@www.altweerterheide.nl
SUMMARY:Uitstapje ouderenvereniging Altweerterheide
DESCRIPTION:Het jaarlijkse uitstapje wordt vandaag georganiseerd voor de leden van de ouderenvereniging Altweerterheide. Nadere berichtgeving volgt nog.
URL:https://www.altweerterheide.nl/activiteit/stadswandeling-ouderenvereniging-altweerterheide/
LOCATION:voormalige camping “De IJzerenman”\, Nederland
CATEGORIES:Senioren
ATTACH;FMTTYPE=image/jpeg:https://www.altweerterheide.nl/wp-content/uploads/2023/05/Dorpsraad-Senioren.jpg
ORGANIZER;CN="ouderenvereniging Altweerterheide":MAILTO:ov.altweerterheide@gmail.com
END:VEVENT
BEGIN:VEVENT
DTSTART;TZID=Europe/Amsterdam:20240915T110000
DTEND;TZID=Europe/Amsterdam:20240915T160000
DTSTAMP:20260420T235707
CREATED:20240902T142833Z
LAST-MODIFIED:20240902T143007Z
UID:10000994-1726398000-1726416000@www.altweerterheide.nl
SUMMARY:bezichtigen bakhuisje klein karelke
DESCRIPTION:Het recent gerestaureerd bakhuisje bij Klein Karelke in Altweerterheide kan tijdens de Open Monumentendag op 15 september bezocht worden. .\nHet bakkes is geopend tussen 11:00u en 16:00u
URL:https://www.altweerterheide.nl/activiteit/bezichtigen-bakhuisje-klein-karelke/
LOCATION:Bakhuisje Klein Karelke Karelkeweg Altweerterheide\, Nederland
CATEGORIES:Cultuur,Ontspanning
ATTACH;FMTTYPE=image/jpeg:https://www.altweerterheide.nl/wp-content/uploads/2024/09/bakhuisje-bij-opening-groepsfoto-2024-scaled.jpg
END:VEVENT
BEGIN:VEVENT
DTSTART;TZID=Europe/Amsterdam:20240915T110000
DTEND;TZID=Europe/Amsterdam:20240915T110000
DTSTAMP:20260420T235707
CREATED:20240816T105059Z
LAST-MODIFIED:20240816T105059Z
UID:10000988-1726398000-1726398000@www.altweerterheide.nl
SUMMARY:H.Mis\, 24e  zondag door het jaar
DESCRIPTION:Koster B Lamerikx \nLector W Janssen
URL:https://www.altweerterheide.nl/activiteit/h-mis-24e-zondag-door-het-jaar/
LOCATION:Kerk parochie Heilig Hart van Jezus\, Bocholterweg 112\, Altweerterheide\, Limburg\, 6006 TN\, Nederland
CATEGORIES:Kerkdiensten
ATTACH;FMTTYPE=image/jpeg:https://www.altweerterheide.nl/wp-content/uploads/2024/01/Dorpsraad-Altweerterheide-Ons-Dorp-05.jpg
ORGANIZER;CN="Parochie van het Heilig Hart van Jezus Altweerterheide":MAILTO:pastooramal@webparochie.nl
END:VEVENT
BEGIN:VEVENT
DTSTART;TZID=Europe/Amsterdam:20240908T110000
DTEND;TZID=Europe/Amsterdam:20240908T110000
DTSTAMP:20260420T235707
CREATED:20240816T104820Z
LAST-MODIFIED:20240816T104820Z
UID:10000987-1725793200-1725793200@www.altweerterheide.nl
SUMMARY:H.Mis\, 23e zondag door het jaar
DESCRIPTION:Voor overl. ouders Kusters-Seegers \nVoor Lies Hermens-Stals en Jan Hermens vanwege verjaardag \nKoster en lector M. Peeters
URL:https://www.altweerterheide.nl/activiteit/h-mis-23e-zondag-door-het-jaar/
LOCATION:Kerk parochie Heilig Hart van Jezus\, Bocholterweg 112\, Altweerterheide\, Limburg\, 6006 TN\, Nederland
CATEGORIES:Kerkdiensten
ATTACH;FMTTYPE=image/jpeg:https://www.altweerterheide.nl/wp-content/uploads/2024/01/Dorpsraad-Altweerterheide-Ons-Dorp-05.jpg
ORGANIZER;CN="Parochie van het Heilig Hart van Jezus Altweerterheide":MAILTO:pastooramal@webparochie.nl
END:VEVENT
BEGIN:VEVENT
DTSTART;TZID=Europe/Amsterdam:20240908T110000
DTEND;TZID=Europe/Amsterdam:20240908T110000
DTSTAMP:20260420T235707
CREATED:20240503T074242Z
LAST-MODIFIED:20240503T074242Z
UID:10000958-1725793200-1725793200@www.altweerterheide.nl
SUMMARY:FIETSTOCHT Buurtvereniging Karelke
DESCRIPTION:De FIETSTOCHT. De fietstocht\, een activiteit voor alle leden\, is dit jaar losgekoppeld van de BBQ. Het bestuur is van plan deze tocht te splitsen voor de E-bikers en de traditionele fietsers. Hier wordt er dan rekening mee gehouden met de afstanden. Ook de starttijd is ruimschoots vervroegd\, naar 11 uur. Er is een pauzeplek met verassing en na afloop kan men nog wat “na-borrelen” tot een uur of ……. Ook voor deze activiteit kunnen onze leden een uitnodiging in de bus verwachten.
URL:https://www.altweerterheide.nl/activiteit/fietstocht-buurtvereniging-karelke/
LOCATION:voormalige camping “De IJzerenman”\, Nederland
CATEGORIES:Ontspanning
ATTACH;FMTTYPE=image/jpeg:https://www.altweerterheide.nl/wp-content/uploads/2024/05/Karelke.jpeg
END:VEVENT
BEGIN:VEVENT
DTSTART;TZID=Europe/Amsterdam:20240901T110000
DTEND;TZID=Europe/Amsterdam:20240901T110000
DTSTAMP:20260420T235707
CREATED:20240805T144129Z
LAST-MODIFIED:20240805T144129Z
UID:10000985-1725188400-1725188400@www.altweerterheide.nl
SUMMARY:H.Mis\, 22e zondag door het jaar
DESCRIPTION:Voor voorspoed in onze parochie. \nKoster B. Lamerikx \nLector W. Janssen
URL:https://www.altweerterheide.nl/activiteit/h-mis-22e-zondag-door-het-jaar/
LOCATION:Kerk parochie Heilig Hart van Jezus\, Bocholterweg 112\, Altweerterheide\, Limburg\, 6006 TN\, Nederland
CATEGORIES:Kerkdiensten
ATTACH;FMTTYPE=image/jpeg:https://www.altweerterheide.nl/wp-content/uploads/2024/01/Dorpsraad-Altweerterheide-Ons-Dorp-05.jpg
ORGANIZER;CN="Parochie van het Heilig Hart van Jezus Altweerterheide":MAILTO:pastooramal@webparochie.nl
END:VEVENT
BEGIN:VEVENT
DTSTART;TZID=Europe/Amsterdam:20240830T180000
DTEND;TZID=Europe/Amsterdam:20240830T180000
DTSTAMP:20260420T235707
CREATED:20240519T125457Z
LAST-MODIFIED:20240519T125457Z
UID:10000968-1725040800-1725040800@www.altweerterheide.nl
SUMMARY:Avond 4 daagse Altweerterheide 2024
DESCRIPTION:Hoera! De diehards die de vorige drie dagen hebben volgemaakt kunnen vandaag met etappe 4 de avondvierdaagse afsluiten. Chapeau allemaal tot zover. Startpunt is vandaag net als de andere keren het sportpark Op den Das en het tijdstip wordt nog aangepast.
URL:https://www.altweerterheide.nl/activiteit/avond-4-daagse-altweerterheide-2024-4/
LOCATION:Sportpark Op den Das\, Bocholterweg\, Aktweerterheide\, Kimburg\, Nederland
CATEGORIES:Ontspanning,Sport
ATTACH;FMTTYPE=image/jpeg:https://www.altweerterheide.nl/wp-content/uploads/2024/05/Avond4daagse-2024-3.jpg
END:VEVENT
BEGIN:VEVENT
DTSTART;TZID=Europe/Amsterdam:20240830T133000
DTEND;TZID=Europe/Amsterdam:20240830T133000
DTSTAMP:20260420T235707
CREATED:20240311T145923Z
LAST-MODIFIED:20240312T134206Z
UID:10000922-1725024600-1725024600@www.altweerterheide.nl
SUMMARY:Jeu de boules middag ouderenvereniging
DESCRIPTION:Voor de ouderen van Altweerterheide organiseert de ouderenvereniging Altweerterheide vandaag een jeu de boules middag bij het openlucht theater de Lichtenberg aan de IJzerenmanweg te Weert.
URL:https://www.altweerterheide.nl/activiteit/jeu-de-boules-middag-ouderenvereniging/
LOCATION:Openlucht theater ‘de Lichtenberg’\, IJzerenmanweg 15\, Weert\, Limburg\, Nederland
CATEGORIES:Senioren
ATTACH;FMTTYPE=image/jpeg:https://www.altweerterheide.nl/wp-content/uploads/2024/03/jeu-de-boules.jpeg
ORGANIZER;CN="ouderenvereniging Altweerterheide":MAILTO:ov.altweerterheide@gmail.com
END:VEVENT
BEGIN:VEVENT
DTSTART;TZID=Europe/Amsterdam:20240829T180000
DTEND;TZID=Europe/Amsterdam:20240829T180000
DTSTAMP:20260420T235707
CREATED:20240519T125005Z
LAST-MODIFIED:20240519T125005Z
UID:10000967-1724954400-1724954400@www.altweerterheide.nl
SUMMARY:Avond 4 daagse Altweerterheide 2024
DESCRIPTION:Nog even volhouden. Etappe 3 van de avond4daagse wordt vanavond gelopen. Startpunt sportpark Op den Das\, start tijdstip wordt aangepast zodra dit bekend is.
URL:https://www.altweerterheide.nl/activiteit/avond-4-daagse-altweerterheide-2024-3/
LOCATION:Sportpark Op den Das\, Bocholterweg\, Aktweerterheide\, Kimburg\, Nederland
CATEGORIES:Ontspanning,Sport
ATTACH;FMTTYPE=image/jpeg:https://www.altweerterheide.nl/wp-content/uploads/2024/05/Avond4daagse-2024-2.jpg
END:VEVENT
BEGIN:VEVENT
DTSTART;TZID=Europe/Amsterdam:20240828T180000
DTEND;TZID=Europe/Amsterdam:20240828T180000
DTSTAMP:20260420T235707
CREATED:20240519T124633Z
LAST-MODIFIED:20240519T124633Z
UID:10000966-1724868000-1724868000@www.altweerterheide.nl
SUMMARY:Avond 4 daagse Altweerterheide 2024
DESCRIPTION:De tweede etappe wordt vanavond gelopen. Gestart wordt wederom vanaf sportpark Op den Das. Het start tijdstip wordt zodra dit bekend is aangepast.
URL:https://www.altweerterheide.nl/activiteit/avond-4-daagse-altweerterheide-2024-2/
LOCATION:Sportpark Op den Das\, Bocholterweg\, Aktweerterheide\, Kimburg\, Nederland
CATEGORIES:Ontspanning,Sport
ATTACH;FMTTYPE=image/jpeg:https://www.altweerterheide.nl/wp-content/uploads/2024/05/Avond4daagse-2024-1.jpg
END:VEVENT
BEGIN:VEVENT
DTSTART;TZID=Europe/Amsterdam:20240827T180000
DTEND;TZID=Europe/Amsterdam:20240827T180000
DTSTAMP:20260420T235707
CREATED:20240519T124055Z
LAST-MODIFIED:20240519T124055Z
UID:10000965-1724781600-1724781600@www.altweerterheide.nl
SUMMARY:Avond 4 daagse Altweerterheide 2024
DESCRIPTION:Vandaag is de eerste etappe van de avondvierdaagse Altweerterheide 2024. \nGestart wordt vanaf het sportpark Op den Das. Vertrektijdstip wordt nog aangepast zodra dit bekend is.
URL:https://www.altweerterheide.nl/activiteit/avond-4-daagse-altweerterheide-2024/
LOCATION:Sportpark Op den Das\, Bocholterweg\, Aktweerterheide\, Kimburg\, Nederland
CATEGORIES:Ontspanning,Sport
ATTACH;FMTTYPE=image/jpeg:https://www.altweerterheide.nl/wp-content/uploads/2024/05/Avond4daagse-2024-4-scaled.jpg
END:VEVENT
BEGIN:VEVENT
DTSTART;TZID=Europe/Amsterdam:20240827T173000
DTEND;TZID=Europe/Amsterdam:20240830T173000
DTSTAMP:20260420T235707
CREATED:20240426T131345Z
LAST-MODIFIED:20240426T131345Z
UID:10000949-1724779800-1725039000@www.altweerterheide.nl
SUMMARY:Avond4Daagse Altweerterheide
DESCRIPTION:In de week van 27 t/m 30 augustus 2024 organiseert de commissie avond 4 daagse Altweerterheide de avond vierdaagse. Er zijn wee mooie routes uitgezet. De start is elke avond om 17.30 uur
URL:https://www.altweerterheide.nl/activiteit/avond4daagse-altweerterheide/
LOCATION:Sportkantine Sporthal Op den Das\, Bocholterweg 89\, Altweerterheide\, Limburg\, 6006 TL\, Nederland
CATEGORIES:Ontspanning
ATTACH;FMTTYPE=image/jpeg:https://www.altweerterheide.nl/wp-content/uploads/2024/03/senior-Altweerterheide.jpeg
END:VEVENT
BEGIN:VEVENT
DTSTART;TZID=Europe/Amsterdam:20240825T110000
DTEND;TZID=Europe/Amsterdam:20240825T110000
DTSTAMP:20260420T235707
CREATED:20240815T163534Z
LAST-MODIFIED:20240815T163534Z
UID:10000986-1724583600-1724583600@www.altweerterheide.nl
SUMMARY:Opening gerestaureerd bakhuisje 'Klein Karelke"
DESCRIPTION:Vandaag wordt om 11.00 uur het gerestaureerde bakhuisje “Klein Karelke”  feestelijk geopend. \nHet geheel zal worden opgeluisterd door muziek van een koor en de harmonie van ons dorp.
URL:https://www.altweerterheide.nl/activiteit/opening-gerestaureerd-bakhuisje-klein-karelke/
LOCATION:Bakhuisje Klein Karelke Karelkeweg Altweerterheide\, Nederland
CATEGORIES:Cultuur,Ontspanning
ATTACH;FMTTYPE=image/jpeg:https://www.altweerterheide.nl/wp-content/uploads/2024/01/Dorpsraad-Altweerterheide-Ons-Dorp-23.jpg
END:VEVENT
BEGIN:VEVENT
DTSTART;TZID=Europe/Amsterdam:20240825T110000
DTEND;TZID=Europe/Amsterdam:20240825T110000
DTSTAMP:20260420T235707
CREATED:20240805T143903Z
LAST-MODIFIED:20240805T143903Z
UID:10000984-1724583600-1724583600@www.altweerterheide.nl
SUMMARY:H.Mis\, 21e  zondag door het jaar.
DESCRIPTION:Voor Hubertus Bongers en Gertruda \nVoor goed weer tijdens de aanstaande wandelvierdaagse. \nKoster en lector M. Peeters
URL:https://www.altweerterheide.nl/activiteit/h-mis-21e-zondag-door-het-jaar/
LOCATION:Kerk parochie Heilig Hart van Jezus\, Bocholterweg 112\, Altweerterheide\, Limburg\, 6006 TN\, Nederland
CATEGORIES:Kerkdiensten
ATTACH;FMTTYPE=image/jpeg:https://www.altweerterheide.nl/wp-content/uploads/2024/01/Dorpsraad-Altweerterheide-Ons-Dorp-05.jpg
ORGANIZER;CN="Parochie van het Heilig Hart van Jezus Altweerterheide":MAILTO:pastooramal@webparochie.nl
END:VEVENT
BEGIN:VEVENT
DTSTART;TZID=Europe/Amsterdam:20240818T110000
DTEND;TZID=Europe/Amsterdam:20240818T110000
DTSTAMP:20260420T235707
CREATED:20240805T143626Z
LAST-MODIFIED:20240805T143626Z
UID:10000983-1723978800-1723978800@www.altweerterheide.nl
SUMMARY:H.Mis\, 20e zondag door het jaar.
DESCRIPTION:Voor Mathieu Koppen \nVoor een voorspoedig nieuw schooljaar. \nKoster B Lamerikx \nLector W. Janssen
URL:https://www.altweerterheide.nl/activiteit/h-mis-20e-zondag-door-het-jaar/
LOCATION:Kerk parochie Heilig Hart van Jezus\, Bocholterweg 112\, Altweerterheide\, Limburg\, 6006 TN\, Nederland
CATEGORIES:Kerkdiensten
ATTACH;FMTTYPE=image/jpeg:https://www.altweerterheide.nl/wp-content/uploads/2024/01/Dorpsraad-Altweerterheide-Ons-Dorp-05.jpg
ORGANIZER;CN="Parochie van het Heilig Hart van Jezus Altweerterheide":MAILTO:pastooramal@webparochie.nl
END:VEVENT
BEGIN:VEVENT
DTSTART;TZID=Europe/Amsterdam:20240817T160000
DTEND;TZID=Europe/Amsterdam:20240817T160000
DTSTAMP:20260420T235707
CREATED:20240503T073923Z
LAST-MODIFIED:20240503T073923Z
UID:10000957-1723910400-1723910400@www.altweerterheide.nl
SUMMARY:BBQ - GRILL buurtvereniging Karelke
DESCRIPTION:De activiteit\, BBQ – GRILL\, staat op dan op de planning. Het bestuur heeft besloten de welbekende fietstocht met aansluitend een BBQ te splitsen in twee afzonderlijke activiteiten. \nDe BBQ – GRILL begint om 17 uur\, de “bar” is vanaf 16 uur open. Uiteraard zullen wij onze leden via een uitnodiging\, die tijdig in de brievenbus wordt bezorgd\, verdere informatie verstrekken.
URL:https://www.altweerterheide.nl/activiteit/bbq-grill-buurtvereniging-karelke/
LOCATION:voormalige camping “De IJzerenman”\, Nederland
CATEGORIES:Ontspanning
ATTACH;FMTTYPE=image/jpeg:https://www.altweerterheide.nl/wp-content/uploads/2024/05/Karelke.jpeg
END:VEVENT
BEGIN:VEVENT
DTSTART;TZID=Europe/Amsterdam:20240815T183000
DTEND;TZID=Europe/Amsterdam:20240815T183000
DTSTAMP:20260420T235707
CREATED:20240805T143220Z
LAST-MODIFIED:20240805T143328Z
UID:10000982-1723746600-1723746600@www.altweerterheide.nl
SUMMARY:Hoogfeest van Maria Tenhemelopneming.
DESCRIPTION:Parochiekerk Stramproy: 18.40 rozenkransgebed\, 19.00 H.Mis. \nUit dankbaarheid; liefde en vrede in gezinnen; om vreugde en wijsheid voor alle moeders. \n 
URL:https://www.altweerterheide.nl/activiteit/hoogfeest-van-maria-tenhemelopneming/
LOCATION:kerk Stramproy
CATEGORIES:Kerkdiensten
ATTACH;FMTTYPE=image/jpeg:https://www.altweerterheide.nl/wp-content/uploads/2024/01/Dorpsraad-Altweerterheide-Ons-Dorp-05.jpg
ORGANIZER;CN="Parochie van het Heilig Hart van Jezus Altweerterheide":MAILTO:pastooramal@webparochie.nl
END:VEVENT
BEGIN:VEVENT
DTSTART;TZID=Europe/Amsterdam:20240811T110000
DTEND;TZID=Europe/Amsterdam:20240811T110000
DTSTAMP:20260420T235707
CREATED:20240805T142853Z
LAST-MODIFIED:20240805T142853Z
UID:10000981-1723374000-1723374000@www.altweerterheide.nl
SUMMARY:H.Mis \,19e zondag door het jaar.
DESCRIPTION:Voor zieken en eenzamen; om wijsheid voor onze regeringsleiders. \nKoster en Lector M. Peeters
URL:https://www.altweerterheide.nl/activiteit/h-mis-19e-zondag-door-het-jaar/
LOCATION:Kerk parochie Heilig Hart van Jezus\, Bocholterweg 112\, Altweerterheide\, Limburg\, 6006 TN\, Nederland
CATEGORIES:Kerkdiensten
ATTACH;FMTTYPE=image/jpeg:https://www.altweerterheide.nl/wp-content/uploads/2024/01/Dorpsraad-Altweerterheide-Ons-Dorp-05.jpg
ORGANIZER;CN="Parochie van het Heilig Hart van Jezus Altweerterheide":MAILTO:pastooramal@webparochie.nl
END:VEVENT
BEGIN:VEVENT
DTSTART;TZID=Europe/Amsterdam:20240725T160000
DTEND;TZID=Europe/Amsterdam:20240725T160000
DTSTAMP:20260420T235707
CREATED:20240312T115333Z
LAST-MODIFIED:20240312T133835Z
UID:10000923-1721923200-1721923200@www.altweerterheide.nl
SUMMARY:Barbecue ouderenvereniging
DESCRIPTION:Vandaag organiseert de ouderenvereniging een barbecue voor haar leden.
URL:https://www.altweerterheide.nl/activiteit/barbecue-ouderenvereniging/
LOCATION:voormalige camping “De IJzerenman”\, Nederland
CATEGORIES:Senioren
ATTACH;FMTTYPE=image/jpeg:https://www.altweerterheide.nl/wp-content/uploads/2024/03/barbeque-2024.jpeg
ORGANIZER;CN="ouderenvereniging Altweerterheide":MAILTO:ov.altweerterheide@gmail.com
END:VEVENT
BEGIN:VEVENT
DTSTART;TZID=Europe/Amsterdam:20240721T110000
DTEND;TZID=Europe/Amsterdam:20240721T110000
DTSTAMP:20260420T235707
CREATED:20240624T144052Z
LAST-MODIFIED:20240624T144137Z
UID:10000980-1721559600-1721559600@www.altweerterheide.nl
SUMMARY:H. Mis 16e zondag door het jaar
DESCRIPTION:voor welzijn in de parochie\, voor ieder die ons gebed kan gebruiken \n  \nKoster B. Lamerikx Lector L. Bein
URL:https://www.altweerterheide.nl/activiteit/h-mis-16e-zondag-door-het-jaar/
LOCATION:Kerk parochie Heilig Hart van Jezus\, Bocholterweg 112\, Altweerterheide\, Limburg\, 6006 TN\, Nederland
CATEGORIES:Kerkdiensten
ATTACH;FMTTYPE=image/jpeg:https://www.altweerterheide.nl/wp-content/uploads/2024/01/Dorpsraad-Altweerterheide-Ons-Dorp-05.jpg
ORGANIZER;CN="Parochie van het Heilig Hart van Jezus Altweerterheide":MAILTO:pastooramal@webparochie.nl
END:VEVENT
BEGIN:VEVENT
DTSTART;TZID=Europe/Amsterdam:20240718T200000
DTEND;TZID=Europe/Amsterdam:20240718T220000
DTSTAMP:20260420T235707
CREATED:20240115T151249Z
LAST-MODIFIED:20240115T151249Z
UID:10000818-1721332800-1721340000@www.altweerterheide.nl
SUMMARY:Vergadering van de Dorpsraad
DESCRIPTION:De vergadering is voor iedereen vrij toegankelijk. \nHierin worden alle zaken besproken die vanuit de gemeente bij de dorpsraad terecht komen. Ook vanuit het dorp zelf mogen mensen zich melden met thema’s. \n 
URL:https://www.altweerterheide.nl/activiteit/vergadering-van-de-dorpsraad/2024-07-18/
LOCATION:Limburg\, Nederland
CATEGORIES:Bestuur
ATTACH;FMTTYPE=:
END:VEVENT
BEGIN:VEVENT
DTSTART;TZID=Europe/Amsterdam:20240714T110000
DTEND;TZID=Europe/Amsterdam:20240714T110000
DTSTAMP:20260420T235707
CREATED:20240624T143754Z
LAST-MODIFIED:20240624T143754Z
UID:10000979-1720954800-1720954800@www.altweerterheide.nl
SUMMARY:H.Mis 15e zondag door het jaar
DESCRIPTION:voor Jac. Camp (jrd)
URL:https://www.altweerterheide.nl/activiteit/h-mis-15e-zondag-door-het-jaar/
LOCATION:Kerk parochie Heilig Hart van Jezus\, Bocholterweg 112\, Altweerterheide\, Limburg\, 6006 TN\, Nederland
CATEGORIES:Kerkdiensten
ATTACH;FMTTYPE=image/jpeg:https://www.altweerterheide.nl/wp-content/uploads/2024/01/Dorpsraad-Altweerterheide-Ons-Dorp-05.jpg
ORGANIZER;CN="Parochie van het Heilig Hart van Jezus Altweerterheide":MAILTO:pastooramal@webparochie.nl
END:VEVENT
END:VCALENDAR