BEGIN:VCALENDAR
VERSION:2.0
PRODID:-//Dorpsraad Altweerterheide - ECPv6.15.18//NONSGML v1.0//EN
CALSCALE:GREGORIAN
METHOD:PUBLISH
X-WR-CALNAME:Dorpsraad Altweerterheide
X-ORIGINAL-URL:https://www.altweerterheide.nl
X-WR-CALDESC:Evenementen voor Dorpsraad Altweerterheide
REFRESH-INTERVAL;VALUE=DURATION:PT1H
X-Robots-Tag:noindex
X-PUBLISHED-TTL:PT1H
BEGIN:VTIMEZONE
TZID:Europe/Amsterdam
BEGIN:DAYLIGHT
TZOFFSETFROM:+0100
TZOFFSETTO:+0200
TZNAME:CEST
DTSTART:20230326T010000
END:DAYLIGHT
BEGIN:STANDARD
TZOFFSETFROM:+0200
TZOFFSETTO:+0100
TZNAME:CET
DTSTART:20231029T010000
END:STANDARD
BEGIN:DAYLIGHT
TZOFFSETFROM:+0100
TZOFFSETTO:+0200
TZNAME:CEST
DTSTART:20240331T010000
END:DAYLIGHT
BEGIN:STANDARD
TZOFFSETFROM:+0200
TZOFFSETTO:+0100
TZNAME:CET
DTSTART:20241027T010000
END:STANDARD
BEGIN:DAYLIGHT
TZOFFSETFROM:+0100
TZOFFSETTO:+0200
TZNAME:CEST
DTSTART:20250330T010000
END:DAYLIGHT
BEGIN:STANDARD
TZOFFSETFROM:+0200
TZOFFSETTO:+0100
TZNAME:CET
DTSTART:20251026T010000
END:STANDARD
BEGIN:DAYLIGHT
TZOFFSETFROM:+0100
TZOFFSETTO:+0200
TZNAME:CEST
DTSTART:20260329T010000
END:DAYLIGHT
BEGIN:STANDARD
TZOFFSETFROM:+0200
TZOFFSETTO:+0100
TZNAME:CET
DTSTART:20261025T010000
END:STANDARD
END:VTIMEZONE
BEGIN:VEVENT
DTSTART;TZID=Europe/Amsterdam:20250124T200000
DTEND;TZID=Europe/Amsterdam:20250124T233000
DTSTAMP:20260420T140900
CREATED:20240926T111447Z
LAST-MODIFIED:20250106T143042Z
UID:10000998-1737748800-1737761400@www.altweerterheide.nl
SUMMARY:1e bonte avond CV de Heiknuiters
DESCRIPTION:
URL:https://www.altweerterheide.nl/activiteit/1e-bonte-avond-cv-de-heiknuiters/
LOCATION:nog nader te bepalen
CATEGORIES:Carnaval
ATTACH;FMTTYPE=image/jpeg:https://www.altweerterheide.nl/wp-content/uploads/2024/09/logo-heiknuiters-e1738162900541.jpg
ORGANIZER;CN="CV de Heiknuiters":MAILTO:info@heiknuiters.nl
END:VEVENT
BEGIN:VEVENT
DTSTART;TZID=Europe/Amsterdam:20250119T110000
DTEND;TZID=Europe/Amsterdam:20250119T110000
DTSTAMP:20260420T140900
CREATED:20250106T140825Z
LAST-MODIFIED:20250106T140825Z
UID:10001041-1737284400-1737284400@www.altweerterheide.nl
SUMMARY:H.Mis 2e zondag door het jaar
DESCRIPTION:Voor Piet Bonten en Nelly Bonten-Linders (Jrd) \n  \nkoster B. Lamerikx Lector W. Janssen
URL:https://www.altweerterheide.nl/activiteit/h-mis-2e-zondag-door-het-jaar/
LOCATION:Kerk parochie Heilig Hart van Jezus\, Bocholterweg 112\, Altweerterheide\, Limburg\, 6006 TN\, Nederland
CATEGORIES:Kerkdiensten
ATTACH;FMTTYPE=image/jpeg:https://www.altweerterheide.nl/wp-content/uploads/2024/07/kern3.jpg
ORGANIZER;CN="Parochie van het Heilig Hart van Jezus Altweerterheide":MAILTO:pastooramal@webparochie.nl
END:VEVENT
BEGIN:VEVENT
DTSTART;TZID=Europe/Amsterdam:20250118T160000
DTEND;TZID=Europe/Amsterdam:20250118T160000
DTSTAMP:20260420T140900
CREATED:20250101T162614Z
LAST-MODIFIED:20250101T162635Z
UID:10001040-1737216000-1737216000@www.altweerterheide.nl
SUMMARY:
DESCRIPTION:Vandaag organiseert de Harmonie vh Heilig Hart Altweerterheide een koffieconcert waarin de jeugd centraal staat. \nOndermeer treden de blokfluiters\, het schoolorkest en het tienerorkest op.
URL:https://www.altweerterheide.nl/activiteit/2612/
LOCATION:Kindcentrum Altweerterheide\, Herenvennenweg\, Altweerterheide\, Nederland
CATEGORIES:Muziek
ATTACH;FMTTYPE=image/jpeg:https://www.altweerterheide.nl/wp-content/uploads/2024/11/20241112_145210-scaled.jpg
ORGANIZER;CN="Harmonie van het Heilig Hart Altweerterheide":MAILTO:info@harmonieheilighart.com
END:VEVENT
BEGIN:VEVENT
DTSTART;TZID=Europe/Amsterdam:20250112T110000
DTEND;TZID=Europe/Amsterdam:20250112T110000
DTSTAMP:20260420T140900
CREATED:20241212T101221Z
LAST-MODIFIED:20241212T101221Z
UID:10001033-1736679600-1736679600@www.altweerterheide.nl
SUMMARY:H.Mis Feest: Doop van de Heer.
DESCRIPTION:Voor overleden ouders Gubbels-Truijen (jrd) \n  \nKoster en Lector M. Peeters
URL:https://www.altweerterheide.nl/activiteit/h-mis-feest-doop-van-de-heer/
LOCATION:Kerk parochie Heilig Hart van Jezus\, Bocholterweg 112\, Altweerterheide\, Limburg\, 6006 TN\, Nederland
CATEGORIES:Kerkdiensten
ATTACH;FMTTYPE=image/jpeg:https://www.altweerterheide.nl/wp-content/uploads/2024/07/kern3.jpg
ORGANIZER;CN="Parochie van het Heilig Hart van Jezus Altweerterheide":MAILTO:pastooramal@webparochie.nl
END:VEVENT
BEGIN:VEVENT
DTSTART;TZID=Europe/Amsterdam:20250105T110000
DTEND;TZID=Europe/Amsterdam:20250105T110000
DTSTAMP:20260420T140900
CREATED:20241212T100943Z
LAST-MODIFIED:20241212T100943Z
UID:10001032-1736074800-1736074800@www.altweerterheide.nl
SUMMARY:H.Mis. Hoogfeest Openbaring des Heren (Driekoningen)
DESCRIPTION:Voor wijsheid van onze wereldleiders. \n  \nKoster B. Lamerikx.  Lector W. Janssen
URL:https://www.altweerterheide.nl/activiteit/h-mis-hoogfeest-openbaring-des-heren-driekoningen/
LOCATION:Kerk parochie Heilig Hart van Jezus\, Bocholterweg 112\, Altweerterheide\, Limburg\, 6006 TN\, Nederland
CATEGORIES:Kerkdiensten
ATTACH;FMTTYPE=image/jpeg:https://www.altweerterheide.nl/wp-content/uploads/2024/07/kern3.jpg
ORGANIZER;CN="Parochie van het Heilig Hart van Jezus Altweerterheide":MAILTO:pastooramal@webparochie.nl
END:VEVENT
BEGIN:VEVENT
DTSTART;TZID=Europe/Amsterdam:20241229T110000
DTEND;TZID=Europe/Amsterdam:20241229T110000
DTSTAMP:20260420T140900
CREATED:20241212T100705Z
LAST-MODIFIED:20241212T100705Z
UID:10001031-1735470000-1735470000@www.altweerterheide.nl
SUMMARY:H.Mis H.Familie JEZUS\, MARIA en JOZEF
DESCRIPTION:Voor voorspoed en geluk in het huisgezin. Voor een veilige plek om op te groeien voor ieder kind ter wereld. \n  \nKoster en lektor M. Peeters
URL:https://www.altweerterheide.nl/activiteit/h-mis-h-familie-jezus-maria-en-jozef/
LOCATION:Kerk parochie Heilig Hart van Jezus\, Bocholterweg 112\, Altweerterheide\, Limburg\, 6006 TN\, Nederland
CATEGORIES:Kerkdiensten
ATTACH;FMTTYPE=image/jpeg:https://www.altweerterheide.nl/wp-content/uploads/2024/07/kern3.jpg
ORGANIZER;CN="Parochie van het Heilig Hart van Jezus Altweerterheide":MAILTO:pastooramal@webparochie.nl
END:VEVENT
BEGIN:VEVENT
DTSTART;TZID=Europe/Amsterdam:20241225T111500
DTEND;TZID=Europe/Amsterdam:20241225T111500
DTSTAMP:20260420T140900
CREATED:20241212T100357Z
LAST-MODIFIED:20241212T100357Z
UID:10001030-1735125300-1735125300@www.altweerterheide.nl
SUMMARY:H.Mis KERSTMIS Hoogfeest: Geboorte van Jezus
DESCRIPTION:Voor Leen Schroeten-Hendrikx \nVoor Jac. Rietjens \nVoor Drina Tullemans-Smeets \n  \nkoster :Lamerikx Lector: W. Janssen
URL:https://www.altweerterheide.nl/activiteit/h-mis-kerstmis-hoogfeest-geboorte-van-jezus/
LOCATION:Kerk parochie Heilig Hart van Jezus\, Bocholterweg 112\, Altweerterheide\, Limburg\, 6006 TN\, Nederland
CATEGORIES:Kerkdiensten
ATTACH;FMTTYPE=image/jpeg:https://www.altweerterheide.nl/wp-content/uploads/2024/01/Dorpsraad-Altweerterheide-Ons-Dorp-05.jpg
ORGANIZER;CN="Parochie van het Heilig Hart van Jezus Altweerterheide":MAILTO:pastooramal@webparochie.nl
END:VEVENT
BEGIN:VEVENT
DTSTART;TZID=Europe/Amsterdam:20241222T110000
DTEND;TZID=Europe/Amsterdam:20241222T110000
DTSTAMP:20260420T140900
CREATED:20241123T110447Z
LAST-MODIFIED:20241123T110447Z
UID:10001028-1734865200-1734865200@www.altweerterheide.nl
SUMMARY:H.Mis 4e zondag van de Advent
DESCRIPTION:Voor een goede voorbereiding van het Kerstfeest. Dat deze dagen gebruikt worden voor het bijleggen van kleine en grote vetes. Om dankbaarheid voor de mensen van wie we houden. \n  \nLector en Koster M. Peeters.
URL:https://www.altweerterheide.nl/activiteit/h-mis-4e-zondag-van-de-advent/
LOCATION:Kerk parochie Heilig Hart van Jezus\, Bocholterweg 112\, Altweerterheide\, Limburg\, 6006 TN\, Nederland
CATEGORIES:Kerkdiensten
ATTACH;FMTTYPE=image/jpeg:https://www.altweerterheide.nl/wp-content/uploads/2024/01/Dorpsraad-Altweerterheide-Ons-Dorp-05.jpg
ORGANIZER;CN="Parochie van het Heilig Hart van Jezus Altweerterheide":MAILTO:pastooramal@webparochie.nl
END:VEVENT
BEGIN:VEVENT
DTSTART;TZID=Europe/Amsterdam:20241219T200000
DTEND;TZID=Europe/Amsterdam:20241219T220000
DTSTAMP:20260420T140900
CREATED:20240115T151249Z
LAST-MODIFIED:20240115T151249Z
UID:10000822-1734638400-1734645600@www.altweerterheide.nl
SUMMARY:Vergadering van de Dorpsraad
DESCRIPTION:De vergadering is voor iedereen vrij toegankelijk. \nHierin worden alle zaken besproken die vanuit de gemeente bij de dorpsraad terecht komen. Ook vanuit het dorp zelf mogen mensen zich melden met thema’s. \n 
URL:https://www.altweerterheide.nl/activiteit/vergadering-van-de-dorpsraad/2024-12-19/
LOCATION:Nederland
CATEGORIES:Bestuur
ATTACH;FMTTYPE=:
END:VEVENT
BEGIN:VEVENT
DTSTART;TZID=Europe/Amsterdam:20241219T200000
DTEND;TZID=Europe/Amsterdam:20241219T200000
DTSTAMP:20260420T140900
CREATED:20241212T112458Z
LAST-MODIFIED:20241212T112458Z
UID:10001034-1734638400-1734638400@www.altweerterheide.nl
SUMMARY:Exta Ledenvergadering dorpsraad Altweerterheide
DESCRIPTION:Extra ledenvergadering om de statuten 2024 van de vereniging Dorpsraad Altweerterheide goed te keuren.
URL:https://www.altweerterheide.nl/activiteit/exta-ledenvergadering-dorpsraad-altweerterheide/
LOCATION:Kindcentrum Altweerterheide\, Herenvennenweg\, Altweerterheide\, Nederland
CATEGORIES:Bestuur
ATTACH;FMTTYPE=image/jpeg:https://www.altweerterheide.nl/wp-content/uploads/2024/01/Dorpsraad-Altweerterheide-Logo-Banner.jpg
ORGANIZER;CN="Bestuur dorpsraad Altweerterheide":MAILTO:info@altweerterheide.nl
END:VEVENT
BEGIN:VEVENT
DTSTART;TZID=Europe/Amsterdam:20241219T130000
DTEND;TZID=Europe/Amsterdam:20241219T130000
DTSTAMP:20260420T140900
CREATED:20240312T135834Z
LAST-MODIFIED:20240312T135834Z
UID:10000928-1734613200-1734613200@www.altweerterheide.nl
SUMMARY:Kerstbrunch ouderenvereniging
DESCRIPTION:Vandaag organiseert de ouderenvereniging voor haar leden een mooie kerstbrunch. Delocatie is nog niet bekend maar wordt zodra deze bekend is bekend gemaakt.
URL:https://www.altweerterheide.nl/activiteit/kerstbrunch-ouderenvereniging/
LOCATION:voormalige camping “De IJzerenman”\, Nederland
CATEGORIES:Senioren
ATTACH;FMTTYPE=image/jpeg:https://www.altweerterheide.nl/wp-content/uploads/2024/03/kerstbrunch-2024.jpeg
ORGANIZER;CN="ouderenvereniging Altweerterheide":MAILTO:ov.altweerterheide@gmail.com
END:VEVENT
BEGIN:VEVENT
DTSTART;VALUE=DATE:20241216
DTEND;VALUE=DATE:20241218
DTSTAMP:20260420T140900
CREATED:20240503T074910Z
LAST-MODIFIED:20240503T074910Z
UID:10000960-1734314400-1734400799@www.altweerterheide.nl
SUMMARY:16 - 22 december Kerstattentie Buurtvereniging Karelke
DESCRIPTION:In deze week kunnen de 65+ leden van onze vereniging een leuke Kerstattentie ontvangen.
URL:https://www.altweerterheide.nl/activiteit/16-22-december-kerstattentie-buurtvereniging-karelke/
LOCATION:voormalige camping “De IJzerenman”\, Nederland
CATEGORIES:Ontspanning
ATTACH;FMTTYPE=image/jpeg:https://www.altweerterheide.nl/wp-content/uploads/2024/05/Karelke.jpeg
END:VEVENT
BEGIN:VEVENT
DTSTART;TZID=Europe/Amsterdam:20241215T140000
DTEND;TZID=Europe/Amsterdam:20241215T140000
DTSTAMP:20260420T140900
CREATED:20241021T101247Z
LAST-MODIFIED:20241021T101247Z
UID:10001020-1734271200-1734271200@www.altweerterheide.nl
SUMMARY:Kerstconcert The most wonderful time Harmonie - Streetsingers
DESCRIPTION:
URL:https://www.altweerterheide.nl/activiteit/kerstconcert-the-most-wonderful-time-harmonie-streetsingers/
LOCATION:Paterskerk Biest\, Biest\, Weert
CATEGORIES:Cultuur,Muziek
ATTACH;FMTTYPE=image/jpeg:https://www.altweerterheide.nl/wp-content/uploads/2024/10/The-Most-Wonderful-Time-in-de-Paterskerk-102400-scaled.jpg.jpeg
ORGANIZER;CN="Harmonie van het Heilig Hart Altweerterheide":MAILTO:info@harmonieheilighart.com
END:VEVENT
BEGIN:VEVENT
DTSTART;TZID=Europe/Amsterdam:20241215T110000
DTEND;TZID=Europe/Amsterdam:20241215T110000
DTSTAMP:20260420T140900
CREATED:20241123T110141Z
LAST-MODIFIED:20241123T110141Z
UID:10001027-1734260400-1734260400@www.altweerterheide.nl
SUMMARY:H.Mis 3e zondag van de Adven
DESCRIPTION:Voor kracht en genezing voor de zieken en eenzamen in onze omgeving. \nKoster B. Lamerikx Lector W. Janssen
URL:https://www.altweerterheide.nl/activiteit/h-mis-3e-zondag-van-de-adven/
LOCATION:Kerk parochie Heilig Hart van Jezus\, Bocholterweg 112\, Altweerterheide\, Limburg\, 6006 TN\, Nederland
CATEGORIES:Kerkdiensten
ATTACH;FMTTYPE=image/jpeg:https://www.altweerterheide.nl/wp-content/uploads/2024/01/Dorpsraad-Altweerterheide-Ons-Dorp-05.jpg
ORGANIZER;CN="Parochie van het Heilig Hart van Jezus Altweerterheide":MAILTO:pastooramal@webparochie.nl
END:VEVENT
BEGIN:VEVENT
DTSTART;TZID=Europe/Amsterdam:20241214T193000
DTEND;TZID=Europe/Amsterdam:20241214T193000
DTSTAMP:20260420T140900
CREATED:20241021T100942Z
LAST-MODIFIED:20241021T100943Z
UID:10001019-1734204600-1734204600@www.altweerterheide.nl
SUMMARY:Kerstconcert The most wonderful time Harmonie samen met Streetsingers
DESCRIPTION:
URL:https://www.altweerterheide.nl/activiteit/kerstconcert-the-most-wonderful-time-harmonie-samen-met-streetsingers/
LOCATION:Paterskerk Biest\, Biest\, Weert
CATEGORIES:Cultuur,Muziek
ATTACH;FMTTYPE=image/jpeg:https://www.altweerterheide.nl/wp-content/uploads/2024/10/The-Most-Wonderful-Time-in-de-Paterskerk-102400-scaled.jpg.jpeg
ORGANIZER;CN="Harmonie van het Heilig Hart Altweerterheide":MAILTO:info@harmonieheilighart.com
END:VEVENT
BEGIN:VEVENT
DTSTART;TZID=Europe/Amsterdam:20241210T200000
DTEND;TZID=Europe/Amsterdam:20241210T200000
DTSTAMP:20260420T140900
CREATED:20241130T105131Z
LAST-MODIFIED:20241130T105131Z
UID:10001029-1733860800-1733860800@www.altweerterheide.nl
SUMMARY:Najaars ledenvergadering VDA
DESCRIPTION:Het jaar is weer voorbij en het is weer tijd voor de najaars ledenvergadering van de vereniging Dorpsraad Altweerterheide. \n  \nOp de agenda staan dit jaar naast de gebruikelijke verenigings items zoals de jaarverslagen van de secretaris en penningmeester ook enkele belangrijke zaken. \n  \nSedert de oprichting van de vereniging zijn er statuten aanwezig. Twee jaar geleden is besloten om deze statuten eens voor het licht te houden en daar waar deze verouderd waren\, aan te passen aan de huidige tijd. Dit was nodig. Het bleek dat belangrijke wettelijke veranderingen niet waren verwerkt in de huidige statuten. Er moest dus een statutenwijziging komen. \n  \nDe nieuwe/gewijzigde statuten zijn enige tijd geleden op de website van de Dorpsraad geplaatst en voor iedereen te lezen. Plaatsen in de Heidebode was vanwege de lijvigheid van het document geen optie. Dit ging gewoon niet. \n  \nOp de komende vergadering willen we starten met het goedkeuren van de gewijzigde statuten. \n  \nDaarnaast is de vernieuwing van de kern van het dorp bijna klaar. We kunnen gaan denken aan een passend openingsfeest. We zoeken mensen die ons daarbij willen helpen en ook ideeën. \n  \nKom dus allemaal naar de najaars ledenvergadering van de vereniging Dorpsraad Altweerterheide. Deze wordt gehouden op: \nDinsdag 10 december 2024\nAanvang 20.00 uur\nKindcentrum Altweerterheide\nHerenvennenweg Altweerterheide \n  \nAGENDA \n\nOpening door de voorzitter\nMededelingen\n– Stand Heidebode\n– Groei en Bloei\n– werkgroep MFA\nNotulen voorjaarsvergadering\nSecretarieel jaarverslag (opsomming)\nFinancieel Jaarverslag\nVerkiezingen bestuur\nHet bestuur draagt Maarten Egmond als nieuw bestuurslid voor. Aftredend en herkiesbaar is Annemiek Jessen.\nMensen die graag zitting willen nemen in het bestuur kunnen zich tot het moment van aanvang vergadering melden bij de secretaris.\nNieuwe statuten.\nOpenbaar gemaakt via Facebook en website altweerterheide.nl\nOpeningsfeest kern Altweerterheide in het voorjaar 2025\nWat verder ter tafel komt\nRondvraag\nSluiting door de voorzitter\n\n  \nHet bestuur van de vereniging dorpsraad Altweerterheide hoopt jullie allemaal te kunnen begroeten.
URL:https://www.altweerterheide.nl/activiteit/najaars-ledenvergadering-vda/
LOCATION:Kindcentrum Altweerterheide\, Herenvennenweg\, Altweerterheide\, Nederland
CATEGORIES:Bestuur
ATTACH;FMTTYPE=image/jpeg:https://www.altweerterheide.nl/wp-content/uploads/2024/01/Dorpsraad-Altweerterheide-Logo-Banner.jpg
END:VEVENT
BEGIN:VEVENT
DTSTART;TZID=Europe/Amsterdam:20241208T110000
DTEND;TZID=Europe/Amsterdam:20241208T110000
DTSTAMP:20260420T140900
CREATED:20241108T124051Z
LAST-MODIFIED:20241108T124051Z
UID:10001025-1733655600-1733655600@www.altweerterheide.nl
SUMMARY:H.Mis 2e zondag van de Advent
DESCRIPTION:Hoogfeest Onbevlekte Ontvangenis van Maria \nVoor alle moeders\, dat Maria hen voorgaat en steunt in het ouderschap. \nVoor alle vrouwen die onbedoeld geen moeder werden\, dat Maria hen steunt in dat grote gemis. \n  \nLector en koster M. Peeters
URL:https://www.altweerterheide.nl/activiteit/h-mis-2e-zondag-van-de-advent/
LOCATION:Kerk parochie Heilig Hart van Jezus\, Bocholterweg 112\, Altweerterheide\, Limburg\, 6006 TN\, Nederland
CATEGORIES:Kerkdiensten
ATTACH;FMTTYPE=image/jpeg:https://www.altweerterheide.nl/wp-content/uploads/2024/01/Dorpsraad-Altweerterheide-Ons-Dorp-05.jpg
ORGANIZER;CN="Parochie van het Heilig Hart van Jezus Altweerterheide":MAILTO:pastooramal@webparochie.nl
END:VEVENT
BEGIN:VEVENT
DTSTART;TZID=Europe/Amsterdam:20241201T110000
DTEND;TZID=Europe/Amsterdam:20241201T110000
DTSTAMP:20260420T140900
CREATED:20241108T123718Z
LAST-MODIFIED:20241108T123718Z
UID:10001024-1733050800-1733050800@www.altweerterheide.nl
SUMMARY:H.Mis 1e zondag van de Advent
DESCRIPTION:Voor vrede in de wereld\, voor wijze besluiten van onze regeringsleiders. \nVoor bezinning op wat echt belangrijk is in deze Adventtijd. \n  \nKoster B. Lamerikx Lector W. Janssen \n 
URL:https://www.altweerterheide.nl/activiteit/h-mis-1e-zondag-van-de-advent/
LOCATION:Kerk parochie Heilig Hart van Jezus\, Bocholterweg 112\, Altweerterheide\, Limburg\, 6006 TN\, Nederland
CATEGORIES:Kerkdiensten
ATTACH;FMTTYPE=image/jpeg:https://www.altweerterheide.nl/wp-content/uploads/2024/01/Dorpsraad-Altweerterheide-Ons-Dorp-05.jpg
ORGANIZER;CN="Parochie van het Heilig Hart van Jezus Altweerterheide":MAILTO:pastooramal@webparochie.nl
END:VEVENT
BEGIN:VEVENT
DTSTART;TZID=Europe/Amsterdam:20241129T193000
DTEND;TZID=Europe/Amsterdam:20241129T193000
DTSTAMP:20260420T140900
CREATED:20241005T124842Z
LAST-MODIFIED:20241005T124842Z
UID:10001014-1732908600-1732908600@www.altweerterheide.nl
SUMMARY:Kwisavond in de kantine van de tennisclub Altweerterheide.
DESCRIPTION:Kwisavond in de kantine van de tennisclub Altweerterheide.\nOpgeven kan individueel of per team voor 19 november ( Max 4 personen per team)\nBijdrage 2.50 pp.
URL:https://www.altweerterheide.nl/activiteit/kwisavond-in-de-kantine-van-de-tennisclub-altweerterheide/
LOCATION:kantine TC Altweerterheide\, Bocholterweg\, Nederland
CATEGORIES:Ontspanning
ATTACH;FMTTYPE=image/jpeg:https://www.altweerterheide.nl/wp-content/uploads/2024/01/Dorpsraad-Altweerterheide-Ons-Dorp-38.jpg
END:VEVENT
BEGIN:VEVENT
DTSTART;TZID=Europe/Amsterdam:20241124T153000
DTEND;TZID=Europe/Amsterdam:20241124T153000
DTSTAMP:20260420T140900
CREATED:20241116T145444Z
LAST-MODIFIED:20241116T145444Z
UID:10001026-1732462200-1732462200@www.altweerterheide.nl
SUMMARY:De Sint komt naar Altweerterheide!
DESCRIPTION:
URL:https://www.altweerterheide.nl/activiteit/de-sint-komt-naar-altweerterheide/
LOCATION:Kindcentrum Altweerterheide\, Herenvennenweg\, Altweerterheide\, Nederland
CATEGORIES:Cultuur
ATTACH;FMTTYPE=image/jpeg:https://www.altweerterheide.nl/wp-content/uploads/2024/11/Sinterklaas-2024.jpg
END:VEVENT
BEGIN:VEVENT
DTSTART;TZID=Europe/Amsterdam:20241124T110000
DTEND;TZID=Europe/Amsterdam:20241124T110000
DTSTAMP:20260420T140900
CREATED:20241027T112633Z
LAST-MODIFIED:20241027T112633Z
UID:10001022-1732446000-1732446000@www.altweerterheide.nl
SUMMARY:H.Mis 34e zondag door het jaar
DESCRIPTION:Hoogfeest: Christus\, Koning van het Heelal \nCeciliafeest Harmonie van het Heilig Hart\, de harmonie luistert de mis op. \nVoor leden en overleden leden van Harmonie van het Heilig Hart \nVoor Nelly Bonten-Linders en Piet Bonten (off.) \nVoor Leen Schroeten-Hendrix \nLector en koster M. Peeters
URL:https://www.altweerterheide.nl/activiteit/h-mis-34e-zondag-door-het-jaar/
LOCATION:Kerk parochie Heilig Hart van Jezus\, Bocholterweg 112\, Altweerterheide\, Limburg\, 6006 TN\, Nederland
CATEGORIES:Kerkdiensten
ATTACH;FMTTYPE=image/jpeg:https://www.altweerterheide.nl/wp-content/uploads/2024/01/Dorpsraad-Altweerterheide-Ons-Dorp-05.jpg
ORGANIZER;CN="Parochie van het Heilig Hart van Jezus Altweerterheide":MAILTO:pastooramal@webparochie.nl
END:VEVENT
BEGIN:VEVENT
DTSTART;TZID=Europe/Amsterdam:20241121T200000
DTEND;TZID=Europe/Amsterdam:20241121T220000
DTSTAMP:20260420T140900
CREATED:20240115T151249Z
LAST-MODIFIED:20240115T151249Z
UID:10000821-1732219200-1732226400@www.altweerterheide.nl
SUMMARY:Vergadering van de Dorpsraad
DESCRIPTION:De vergadering is voor iedereen vrij toegankelijk. \nHierin worden alle zaken besproken die vanuit de gemeente bij de dorpsraad terecht komen. Ook vanuit het dorp zelf mogen mensen zich melden met thema’s. \n 
URL:https://www.altweerterheide.nl/activiteit/vergadering-van-de-dorpsraad/2024-11-21/
LOCATION:Nederland
CATEGORIES:Bestuur
ATTACH;FMTTYPE=:
END:VEVENT
BEGIN:VEVENT
DTSTART;TZID=Europe/Amsterdam:20241121T133000
DTEND;TZID=Europe/Amsterdam:20241121T133000
DTSTAMP:20260420T140900
CREATED:20240312T135120Z
LAST-MODIFIED:20240312T135120Z
UID:10000927-1732195800-1732195800@www.altweerterheide.nl
SUMMARY:Kegelen ouderenvereniging
DESCRIPTION:De ouderenvereniging gaat vandaag kegelen.
URL:https://www.altweerterheide.nl/activiteit/kegelen-ouderenvereniging/
LOCATION:Kegelbanen Reppel\, Monshofstraat 9\, Bocholt\, Limburg\, 3950\, België
CATEGORIES:Senioren
ATTACH;FMTTYPE=image/png:https://www.altweerterheide.nl/wp-content/uploads/2024/03/Kegelen.png
ORGANIZER;CN="ouderenvereniging Altweerterheide":MAILTO:ov.altweerterheide@gmail.com
END:VEVENT
BEGIN:VEVENT
DTSTART;TZID=Europe/Amsterdam:20241117T110000
DTEND;TZID=Europe/Amsterdam:20241117T110000
DTSTAMP:20260420T140900
CREATED:20240926T111145Z
LAST-MODIFIED:20240926T111145Z
UID:10000997-1731841200-1731841200@www.altweerterheide.nl
SUMMARY:Heilige mis en opening vastelaovund seizoen CV de Heiknuiters
DESCRIPTION:
URL:https://www.altweerterheide.nl/activiteit/heilige-mis-en-opening-vastelaovund-seizoen-cv-de-heiknuiters/
LOCATION:Kerk parochie Heilig Hart van Jezus\, Bocholterweg 112\, Altweerterheide\, Limburg\, 6006 TN\, Nederland
ATTACH;FMTTYPE=image/jpeg:https://www.altweerterheide.nl/wp-content/uploads/2024/01/Dorpsraad-Altweerterheide-Ons-Dorp-02.jpg
ORGANIZER;CN="CV de Heiknuiters":MAILTO:info@heiknuiters.nl
END:VEVENT
BEGIN:VEVENT
DTSTART;TZID=Europe/Amsterdam:20241111T183000
DTEND;TZID=Europe/Amsterdam:20241111T183000
DTSTAMP:20260420T140900
CREATED:20241021T142017Z
LAST-MODIFIED:20241107T081347Z
UID:10001021-1731349800-1731349800@www.altweerterheide.nl
SUMMARY:Sint Maarten 2024
DESCRIPTION:
URL:https://www.altweerterheide.nl/activiteit/sint-maarten-2024/
LOCATION:Zoomweg\, Zoomweg\, Altweerterheide
CATEGORIES:Cultuur
END:VEVENT
BEGIN:VEVENT
DTSTART;TZID=Europe/Amsterdam:20241110T110000
DTEND;TZID=Europe/Amsterdam:20241110T110000
DTSTAMP:20260420T140900
CREATED:20241014T122004Z
LAST-MODIFIED:20241014T122004Z
UID:10001017-1731236400-1731236400@www.altweerterheide.nl
SUMMARY:H.Mis\, 32e zondag door het jaar
DESCRIPTION:Voor veiligheid en vrede\, in de wereld en in onze directe omgeving. \nKoster en Lector M. Peeters
URL:https://www.altweerterheide.nl/activiteit/h-mis-32e-zondag-door-het-jaar/
LOCATION:Kerk parochie Heilig Hart van Jezus\, Bocholterweg 112\, Altweerterheide\, Limburg\, 6006 TN\, Nederland
CATEGORIES:Kerkdiensten
ATTACH;FMTTYPE=image/jpeg:https://www.altweerterheide.nl/wp-content/uploads/2024/01/Dorpsraad-Altweerterheide-Ons-Dorp-05.jpg
ORGANIZER;CN="Parochie van het Heilig Hart van Jezus Altweerterheide":MAILTO:pastooramal@webparochie.nl
END:VEVENT
BEGIN:VEVENT
DTSTART;TZID=Europe/Amsterdam:20241109T193000
DTEND;TZID=Europe/Amsterdam:20241109T193000
DTSTAMP:20260420T140900
CREATED:20240826T151541Z
LAST-MODIFIED:20240906T114230Z
UID:10000989-1731180600-1731180600@www.altweerterheide.nl
SUMMARY:Kienavond CV de Heiknuiters
DESCRIPTION:Vanavond houdt  CV de Heiknuiters haar kienavond. Een en ander vindt plaats bij partycentrum de Sluis bij Sluis 16.
URL:https://www.altweerterheide.nl/activiteit/kienavond-cv-de-heiknuiters/
LOCATION:Partycentrum Sluis\, Kazernalaan nabij sluis 16\, Weert\, Nederland
CATEGORIES:Carnaval,Ontspanning
ATTACH;FMTTYPE=image/jpeg:https://www.altweerterheide.nl/wp-content/uploads/2024/01/Dorpsraad-Carnaval-Confetti.jpg
ORGANIZER;CN="CV de Heiknuiters":MAILTO:info@heiknuiters.nl
END:VEVENT
BEGIN:VEVENT
DTSTART;TZID=Europe/Amsterdam:20241103T110000
DTEND;TZID=Europe/Amsterdam:20241103T110000
DTSTAMP:20260420T140900
CREATED:20241014T121749Z
LAST-MODIFIED:20241014T121749Z
UID:10001016-1730631600-1730631600@www.altweerterheide.nl
SUMMARY:H.Mis\, 31e zondag door het jaar
DESCRIPTION:In liefdevolle herinnering aan onze overleden dierbaren. \n  \nKoster B. Lamerikx \nLector W. Janssen
URL:https://www.altweerterheide.nl/activiteit/h-mis-31e-zondag-door-het-jaar/
LOCATION:Kerk parochie Heilig Hart van Jezus\, Bocholterweg 112\, Altweerterheide\, Limburg\, 6006 TN\, Nederland
CATEGORIES:Kerkdiensten
ATTACH;FMTTYPE=image/jpeg:https://www.altweerterheide.nl/wp-content/uploads/2024/01/Dorpsraad-Altweerterheide-Ons-Dorp-05.jpg
ORGANIZER;CN="Parochie van het Heilig Hart van Jezus Altweerterheide":MAILTO:pastooramal@webparochie.nl
END:VEVENT
BEGIN:VEVENT
DTSTART;TZID=Europe/Amsterdam:20241102T200000
DTEND;TZID=Europe/Amsterdam:20241102T200000
DTSTAMP:20260420T140900
CREATED:20241005T125523Z
LAST-MODIFIED:20241013T104455Z
UID:10001015-1730577600-1730577600@www.altweerterheide.nl
SUMMARY:Kwastenbal
DESCRIPTION:
URL:https://www.altweerterheide.nl/activiteit/verefkwasten-bal/
LOCATION:Sportkantine Sporthal Op den Das\, Bocholterweg 89\, Altweerterheide\, Limburg\, 6006 TL\, Nederland
CATEGORIES:Carnaval
ATTACH;FMTTYPE=image/jpeg:https://www.altweerterheide.nl/wp-content/uploads/2024/10/bal-verfkwasten-2024.jpg
END:VEVENT
BEGIN:VEVENT
DTSTART;TZID=Europe/Amsterdam:20241101T080000
DTEND;TZID=Europe/Amsterdam:20241101T170000
DTSTAMP:20260420T140900
CREATED:20240312T134738Z
LAST-MODIFIED:20240312T134738Z
UID:10000926-1730448000-1730480400@www.altweerterheide.nl
SUMMARY:Excursie bakkerij Heerschap Nederweert
DESCRIPTION:Vandaag organiseert de ouderenvereniging voor haar leden een excursie naar de modernste bakkerij van Nederland in Nederweert.
URL:https://www.altweerterheide.nl/activiteit/excursie-bakkerij-heerschap-nederweert/
LOCATION:Bakkerij Heerschap Nederweert\, Titaniumstraat 18\, Nederweert\, Limburg\, 6031 TV\, Nederland
CATEGORIES:Senioren
ATTACH;FMTTYPE=image/jpeg:https://www.altweerterheide.nl/wp-content/uploads/2024/03/Bakkerij-Heerschap.jpeg
ORGANIZER;CN="ouderenvereniging Altweerterheide":MAILTO:ov.altweerterheide@gmail.com
END:VEVENT
END:VCALENDAR