BEGIN:VCALENDAR
VERSION:2.0
PRODID:-//Dorpsraad Altweerterheide - ECPv6.15.18//NONSGML v1.0//EN
CALSCALE:GREGORIAN
METHOD:PUBLISH
X-WR-CALNAME:Dorpsraad Altweerterheide
X-ORIGINAL-URL:https://www.altweerterheide.nl
X-WR-CALDESC:Evenementen voor Dorpsraad Altweerterheide
REFRESH-INTERVAL;VALUE=DURATION:PT1H
X-Robots-Tag:noindex
X-PUBLISHED-TTL:PT1H
BEGIN:VTIMEZONE
TZID:Europe/Amsterdam
BEGIN:DAYLIGHT
TZOFFSETFROM:+0100
TZOFFSETTO:+0200
TZNAME:CEST
DTSTART:20230326T010000
END:DAYLIGHT
BEGIN:STANDARD
TZOFFSETFROM:+0200
TZOFFSETTO:+0100
TZNAME:CET
DTSTART:20231029T010000
END:STANDARD
BEGIN:DAYLIGHT
TZOFFSETFROM:+0100
TZOFFSETTO:+0200
TZNAME:CEST
DTSTART:20240331T010000
END:DAYLIGHT
BEGIN:STANDARD
TZOFFSETFROM:+0200
TZOFFSETTO:+0100
TZNAME:CET
DTSTART:20241027T010000
END:STANDARD
BEGIN:DAYLIGHT
TZOFFSETFROM:+0100
TZOFFSETTO:+0200
TZNAME:CEST
DTSTART:20250330T010000
END:DAYLIGHT
BEGIN:STANDARD
TZOFFSETFROM:+0200
TZOFFSETTO:+0100
TZNAME:CET
DTSTART:20251026T010000
END:STANDARD
BEGIN:DAYLIGHT
TZOFFSETFROM:+0100
TZOFFSETTO:+0200
TZNAME:CEST
DTSTART:20260329T010000
END:DAYLIGHT
BEGIN:STANDARD
TZOFFSETFROM:+0200
TZOFFSETTO:+0100
TZNAME:CET
DTSTART:20261025T010000
END:STANDARD
END:VTIMEZONE
BEGIN:VEVENT
DTSTART;TZID=Europe/Amsterdam:20250305T190000
DTEND;TZID=Europe/Amsterdam:20250305T190000
DTSTAMP:20260420T092037
CREATED:20250213T102026Z
LAST-MODIFIED:20250213T102026Z
UID:10001053-1741201200-1741201200@www.altweerterheide.nl
SUMMARY:H.Mis in Stramproy\, Aswoensdag
DESCRIPTION:Dag van vasten en onthouding
URL:https://www.altweerterheide.nl/activiteit/h-mis-in-stramproy-aswoensdag/
LOCATION:kerk Stramproy
CATEGORIES:Kerkdiensten
ATTACH;FMTTYPE=image/jpeg:https://www.altweerterheide.nl/wp-content/uploads/2024/07/kern3.jpg
ORGANIZER;CN="Parochie van het Heilig Hart van Jezus Altweerterheide":MAILTO:pastooramal@webparochie.nl
END:VEVENT
BEGIN:VEVENT
DTSTART;TZID=Europe/Amsterdam:20250304T180000
DTEND;TZID=Europe/Amsterdam:20250304T220000
DTSTAMP:20260420T092037
CREATED:20250107T120656Z
LAST-MODIFIED:20250107T120656Z
UID:10001044-1741111200-1741125600@www.altweerterheide.nl
SUMMARY:Hèjbeêsem verbörre en abdicaâsie preense
DESCRIPTION:Om 18.00 uur wordt de heibeesem verbrand bij het beeldje in de kern van het dorp. Later deze avond worden de prinsen van hun versierselen ontdaan in de Paol. Hiermee eindigt de carnaval voor het seizoen 24-25.
URL:https://www.altweerterheide.nl/activiteit/hejbeesem-verborre-en-abdicaasie-preense/
LOCATION:de Paol\, Bocholterweg\, Altweerterheide\, Nederland
CATEGORIES:Carnaval
ATTACH;FMTTYPE=image/jpeg:https://www.altweerterheide.nl/wp-content/uploads/2024/09/logo-heiknuiters-e1738162900541.jpg
ORGANIZER;CN="CV de Heiknuiters":MAILTO:info@heiknuiters.nl
END:VEVENT
BEGIN:VEVENT
DTSTART;TZID=Europe/Amsterdam:20250303T130000
DTEND;TZID=Europe/Amsterdam:20250303T233000
DTSTAMP:20260420T092037
CREATED:20240926T115719Z
LAST-MODIFIED:20250106T142126Z
UID:10001006-1741006800-1741044600@www.altweerterheide.nl
SUMMARY:Haerse Aete\, Optocht en optochbal CV de Heiknuiters
DESCRIPTION:
URL:https://www.altweerterheide.nl/activiteit/haerse-aete-optocht-en-optochbal-cv-de-heiknuiters/
LOCATION:nog nader te bepalen
CATEGORIES:Carnaval
ATTACH;FMTTYPE=image/jpeg:https://www.altweerterheide.nl/wp-content/uploads/2024/09/logo-heiknuiters-e1738162900541.jpg
ORGANIZER;CN="CV de Heiknuiters":MAILTO:info@heiknuiters.nl
END:VEVENT
BEGIN:VEVENT
DTSTART;TZID=Europe/Amsterdam:20250302T110000
DTEND;TZID=Europe/Amsterdam:20250302T110000
DTSTAMP:20260420T092037
CREATED:20250203T164608Z
LAST-MODIFIED:20250203T164608Z
UID:10001052-1740913200-1740913200@www.altweerterheide.nl
SUMMARY:H.Mis 8e zondag door het jaar
DESCRIPTION:voor Anna Elisabeth Krops en ouders (jrd) \nKoster B Lamerikx Lector W Janssen
URL:https://www.altweerterheide.nl/activiteit/h-mis-8e-zondag-door-het-jaar/
LOCATION:Kerk parochie Heilig Hart van Jezus\, Bocholterweg 112\, Altweerterheide\, Limburg\, 6006 TN\, Nederland
CATEGORIES:Kerkdiensten
ATTACH;FMTTYPE=image/jpeg:https://www.altweerterheide.nl/wp-content/uploads/2024/07/kern3.jpg
ORGANIZER;CN="Parochie van het Heilig Hart van Jezus Altweerterheide":MAILTO:pastooramal@webparochie.nl
END:VEVENT
BEGIN:VEVENT
DTSTART;TZID=Europe/Amsterdam:20250301T193000
DTEND;TZID=Europe/Amsterdam:20250301T193000
DTSTAMP:20260420T092037
CREATED:20250129T151004Z
LAST-MODIFIED:20250129T151004Z
UID:10001047-1740857400-1740857400@www.altweerterheide.nl
SUMMARY:CV de Heiknuiters organisieërtj ‘n gezellige Pubquiz
DESCRIPTION:Op zaoterdig 1 Mieërt in café-zaal De Paol.  Vae beginne um 19.33 Oor. \nOpgaeve kan via info@heiknuiters.nl. Deîlname is gratis. Aantal persoeëne kindje zelf invölle. \nNao afloup ‘n optraeje van De Saunaboys. \nGae kintj neteurlik ouch kaome as dejje neet mèt de pubkwiz mej wiltj doon
URL:https://www.altweerterheide.nl/activiteit/cv-de-heiknuiters-organisieertj-n-gezellige-pubquiz/
LOCATION:de Paol\, Bocholterweg\, Altweerterheide\, Nederland
CATEGORIES:Carnaval
ATTACH;FMTTYPE=image/jpeg:https://www.altweerterheide.nl/wp-content/uploads/2025/01/logo-heiknuiters-1.jpg
ORGANIZER;CN="CV de Heiknuiters":MAILTO:info@heiknuiters.nl
END:VEVENT
BEGIN:VEVENT
DTSTART;TZID=Europe/Amsterdam:20250301T130000
DTEND;TZID=Europe/Amsterdam:20250301T233000
DTSTAMP:20260420T092037
CREATED:20240926T115430Z
LAST-MODIFIED:20250106T142253Z
UID:10001005-1740834000-1740871800@www.altweerterheide.nl
SUMMARY:Jeugdhosmiddag en pubquizz  CV de Heiknuiters
DESCRIPTION:
URL:https://www.altweerterheide.nl/activiteit/jeugdhosmiddag-en-pubquizz-cv-de-heiknuiters/
LOCATION:nog nader te bepalen
CATEGORIES:Carnaval
ATTACH;FMTTYPE=image/jpeg:https://www.altweerterheide.nl/wp-content/uploads/2024/09/logo-heiknuiters-e1738162900541.jpg
ORGANIZER;CN="CV de Heiknuiters":MAILTO:info@heiknuiters.nl
END:VEVENT
BEGIN:VEVENT
DTSTART;TZID=Europe/Amsterdam:20250228T130000
DTEND;TZID=Europe/Amsterdam:20250228T150000
DTSTAMP:20260420T092037
CREATED:20240926T115132Z
LAST-MODIFIED:20250106T142352Z
UID:10001004-1740747600-1740754800@www.altweerterheide.nl
SUMMARY:Optocht en hosmiddag basisschool St.Jozef
DESCRIPTION:
URL:https://www.altweerterheide.nl/activiteit/optocht-en-hosmiddag-basisschool-st-jozef/
LOCATION:Kindcentrum Altweerterheide\, Herenvennenweg\, Altweerterheide\, Nederland
CATEGORIES:Carnaval
ATTACH;FMTTYPE=image/jpeg:https://www.altweerterheide.nl/wp-content/uploads/2024/09/logo-heiknuiters-e1738162900541.jpg
ORGANIZER;CN="CV de Heiknuiters":MAILTO:info@heiknuiters.nl
END:VEVENT
BEGIN:VEVENT
DTSTART;TZID=Europe/Amsterdam:20250223T110000
DTEND;TZID=Europe/Amsterdam:20250223T110000
DTSTAMP:20260420T092037
CREATED:20250203T164327Z
LAST-MODIFIED:20250203T164327Z
UID:10001051-1740308400-1740308400@www.altweerterheide.nl
SUMMARY:H.Mis 7e zondag door het jaar
DESCRIPTION:voor een “Gooie Vastelaovundj” waarbij we het carnavalsfeest mogen gaan vieren als voorbereiding op een goede vastentijd.
URL:https://www.altweerterheide.nl/activiteit/h-mis-7e-zondag-door-het-jaar/
LOCATION:Kerk parochie Heilig Hart van Jezus\, Bocholterweg 112\, Altweerterheide\, Limburg\, 6006 TN\, Nederland
CATEGORIES:Kerkdiensten
ATTACH;FMTTYPE=image/jpeg:https://www.altweerterheide.nl/wp-content/uploads/2024/07/kern3.jpg
ORGANIZER;CN="Parochie van het Heilig Hart van Jezus Altweerterheide":MAILTO:pastooramal@webparochie.nl
END:VEVENT
BEGIN:VEVENT
DTSTART;TZID=Europe/Amsterdam:20250222T190000
DTEND;TZID=Europe/Amsterdam:20250222T233000
DTSTAMP:20260420T092037
CREATED:20240926T114744Z
LAST-MODIFIED:20250106T142503Z
UID:10001003-1740250800-1740267000@www.altweerterheide.nl
SUMMARY:Prinsenreceptie CV de Heiknuiters
DESCRIPTION:
URL:https://www.altweerterheide.nl/activiteit/prinsenreceptie-cv-de-heiknuiters/
LOCATION:nog nader te bepalen
CATEGORIES:Carnaval
ATTACH;FMTTYPE=image/jpeg:https://www.altweerterheide.nl/wp-content/uploads/2024/09/logo-heiknuiters-e1738162900541.jpg
ORGANIZER;CN="CV de Heiknuiters":MAILTO:info@heiknuiters.nl
END:VEVENT
BEGIN:VEVENT
DTSTART;TZID=Europe/Amsterdam:20250216T110000
DTEND;TZID=Europe/Amsterdam:20250216T110000
DTSTAMP:20260420T092037
CREATED:20250117T132612Z
LAST-MODIFIED:20250117T132612Z
UID:10001046-1739703600-1739703600@www.altweerterheide.nl
SUMMARY:H.Mis 6e zondag door het jaar
DESCRIPTION:Voor Yvonne Kneepkens (jrd) \nVoor Lei Kneepkens en Antonetta Kneepkens-Houben (jrd) \nVoor Petrus Johannus Hubertus Krops en ouders (jrd) \nVoor Cor Lamerikx (jrd) \n  \nLector W. Janssen.   Koster B. Lamerikx.
URL:https://www.altweerterheide.nl/activiteit/h-mis-6e-zondag-door-het-jaar-2/
LOCATION:Kerk parochie Heilig Hart van Jezus\, Bocholterweg 112\, Altweerterheide\, Limburg\, 6006 TN\, Nederland
CATEGORIES:Kerkdiensten
ATTACH;FMTTYPE=image/jpeg:https://www.altweerterheide.nl/wp-content/uploads/2024/01/Dorpsraad-Altweerterheide-Ons-Dorp-05.jpg
ORGANIZER;CN="Parochie van het Heilig Hart van Jezus Altweerterheide":MAILTO:pastooramal@webparochie.nl
END:VEVENT
BEGIN:VEVENT
DTSTART;TZID=Europe/Amsterdam:20250215T200000
DTEND;TZID=Europe/Amsterdam:20250215T233000
DTSTAMP:20260420T092037
CREATED:20240926T114442Z
LAST-MODIFIED:20250106T142701Z
UID:10001002-1739649600-1739662200@www.altweerterheide.nl
SUMMARY:Boerenbal CV de Heiknuiters
DESCRIPTION:
URL:https://www.altweerterheide.nl/activiteit/boerenbal-cv-de-heiknuiters/
LOCATION:nog nader te bepalen
CATEGORIES:Carnaval
ATTACH;FMTTYPE=image/jpeg:https://www.altweerterheide.nl/wp-content/uploads/2024/09/logo-heiknuiters-e1738162900541.jpg
ORGANIZER;CN="CV de Heiknuiters":MAILTO:info@heiknuiters.nl
END:VEVENT
BEGIN:VEVENT
DTSTART;TZID=Europe/Amsterdam:20250214T200000
DTEND;TZID=Europe/Amsterdam:20250214T233000
DTSTAMP:20260420T092037
CREATED:20240926T114107Z
LAST-MODIFIED:20250106T142803Z
UID:10001001-1739563200-1739575800@www.altweerterheide.nl
SUMMARY:Vastelaovund Surprise Party CV de Heiknuiters
DESCRIPTION:
URL:https://www.altweerterheide.nl/activiteit/vastelaovund-surprise-party-cv-de-heiknuiters/
LOCATION:nog nader te bepalen
CATEGORIES:Carnaval
ATTACH;FMTTYPE=image/jpeg:https://www.altweerterheide.nl/wp-content/uploads/2024/09/logo-heiknuiters-e1738162900541.jpg
ORGANIZER;CN="CV de Heiknuiters":MAILTO:info@heiknuiters.nl
END:VEVENT
BEGIN:VEVENT
DTSTART;TZID=Europe/Amsterdam:20250209T110000
DTEND;TZID=Europe/Amsterdam:20250209T110000
DTSTAMP:20260420T092037
CREATED:20250117T132309Z
LAST-MODIFIED:20250117T132309Z
UID:10001045-1739098800-1739098800@www.altweerterheide.nl
SUMMARY:H.Mis 5e zondag door het jaar
DESCRIPTION:Voor eenheid in Europa op voorspraak van H.H. Cyrillus en Methodius\, patronen van Europa. (14 feb.) \n  \nLector en koster M. Peeters.
URL:https://www.altweerterheide.nl/activiteit/h-mis-5e-zondag-door-het-jaar/
LOCATION:Kerk parochie Heilig Hart van Jezus\, Bocholterweg 112\, Altweerterheide\, Limburg\, 6006 TN\, Nederland
CATEGORIES:Kerkdiensten
ATTACH;FMTTYPE=image/jpeg:https://www.altweerterheide.nl/wp-content/uploads/2024/01/Dorpsraad-Altweerterheide-Ons-Dorp-05.jpg
ORGANIZER;CN="Parochie van het Heilig Hart van Jezus Altweerterheide":MAILTO:pastooramal@webparochie.nl
END:VEVENT
BEGIN:VEVENT
DTSTART;TZID=Europe/Amsterdam:20250202T110000
DTEND;TZID=Europe/Amsterdam:20250202T110000
DTSTAMP:20260420T092037
CREATED:20250106T141311Z
LAST-MODIFIED:20250106T141311Z
UID:10001043-1738494000-1738494000@www.altweerterheide.nl
SUMMARY:H.Mis Feest: Opdracht van de Heer in de tempel
DESCRIPTION:Voor liefde en vrede in onze gezinnen\, \nVoor aandacht voor de eenzamen en zieken om ons heen. \n  \nKoster B. Lamerikx.  Lector W. Janssen. \n 
URL:https://www.altweerterheide.nl/activiteit/h-mis-feest-opdracht-van-de-heer-in-de-tempel/
LOCATION:Kerk parochie Heilig Hart van Jezus\, Bocholterweg 112\, Altweerterheide\, Limburg\, 6006 TN\, Nederland
CATEGORIES:Kerkdiensten
ATTACH;FMTTYPE=image/jpeg:https://www.altweerterheide.nl/wp-content/uploads/2024/07/kern3.jpg
ORGANIZER;CN="Parochie van het Heilig Hart van Jezus Altweerterheide":MAILTO:pastooramal@webparochie.nl
END:VEVENT
BEGIN:VEVENT
DTSTART;TZID=Europe/Amsterdam:20250129T193000
DTEND;TZID=Europe/Amsterdam:20250129T223000
DTSTAMP:20260420T092037
CREATED:20241219T195550Z
LAST-MODIFIED:20241219T195550Z
UID:10001037-1738179000-1738189800@www.altweerterheide.nl
SUMMARY:Jaarvergadering Buurtvereniging Karelke
DESCRIPTION:Uitnodigingen zijn reeds bezorgd
URL:https://www.altweerterheide.nl/activiteit/jaarvergadering-buurtvereniging-karelke-2/
LOCATION:Sportkantine Sporthal Op den Das\, Bocholterweg 89\, Altweerterheide\, Limburg\, 6006 TL\, Nederland
END:VEVENT
BEGIN:VEVENT
DTSTART;TZID=Europe/Amsterdam:20250126T130000
DTEND;TZID=Europe/Amsterdam:20250126T170000
DTSTAMP:20260420T092037
CREATED:20240926T113808Z
LAST-MODIFIED:20250106T142903Z
UID:10001000-1737896400-1737910800@www.altweerterheide.nl
SUMMARY:bonte middag CV de Heiknuiters
DESCRIPTION:
URL:https://www.altweerterheide.nl/activiteit/bonte-middag-cv-de-heiknuiters/
LOCATION:nog nader te bepalen
CATEGORIES:Carnaval
ATTACH;FMTTYPE=image/jpeg:https://www.altweerterheide.nl/wp-content/uploads/2024/09/logo-heiknuiters-e1738162900541.jpg
ORGANIZER;CN="CV de Heiknuiters":MAILTO:info@heiknuiters.nl
END:VEVENT
BEGIN:VEVENT
DTSTART;TZID=Europe/Amsterdam:20250126T110000
DTEND;TZID=Europe/Amsterdam:20250126T110000
DTSTAMP:20260420T092037
CREATED:20250106T141041Z
LAST-MODIFIED:20250106T141041Z
UID:10001042-1737889200-1737889200@www.altweerterheide.nl
SUMMARY:H.Mis 3e zondag door het jaar
DESCRIPTION:Voor voorspoed en vrede in onze samenleving Voor wijsheid voor onze regeringsleiders \n  \nLector en koster M. Peeters
URL:https://www.altweerterheide.nl/activiteit/h-mis-3e-zondag-door-het-jaar/
LOCATION:Kerk parochie Heilig Hart van Jezus\, Bocholterweg 112\, Altweerterheide\, Limburg\, 6006 TN\, Nederland
CATEGORIES:Kerkdiensten
ATTACH;FMTTYPE=image/jpeg:https://www.altweerterheide.nl/wp-content/uploads/2024/07/kern3.jpg
ORGANIZER;CN="Parochie van het Heilig Hart van Jezus Altweerterheide":MAILTO:pastooramal@webparochie.nl
END:VEVENT
BEGIN:VEVENT
DTSTART;TZID=Europe/Amsterdam:20250125T200000
DTEND;TZID=Europe/Amsterdam:20250125T233000
DTSTAMP:20260420T092037
CREATED:20240926T113530Z
LAST-MODIFIED:20250106T142955Z
UID:10000999-1737835200-1737847800@www.altweerterheide.nl
SUMMARY:2e bonte avond CV de Heiknuiters
DESCRIPTION:
URL:https://www.altweerterheide.nl/activiteit/2e-bonte-avond-cv-de-heiknuiters/
LOCATION:nog nader te bepalen
CATEGORIES:Carnaval
ATTACH;FMTTYPE=image/jpeg:https://www.altweerterheide.nl/wp-content/uploads/2024/09/logo-heiknuiters-e1738162900541.jpg
ORGANIZER;CN="CV de Heiknuiters":MAILTO:info@heiknuiters.nl
END:VEVENT
BEGIN:VEVENT
DTSTART;TZID=Europe/Amsterdam:20250124T200000
DTEND;TZID=Europe/Amsterdam:20250124T233000
DTSTAMP:20260420T092037
CREATED:20240926T111447Z
LAST-MODIFIED:20250106T143042Z
UID:10000998-1737748800-1737761400@www.altweerterheide.nl
SUMMARY:1e bonte avond CV de Heiknuiters
DESCRIPTION:
URL:https://www.altweerterheide.nl/activiteit/1e-bonte-avond-cv-de-heiknuiters/
LOCATION:nog nader te bepalen
CATEGORIES:Carnaval
ATTACH;FMTTYPE=image/jpeg:https://www.altweerterheide.nl/wp-content/uploads/2024/09/logo-heiknuiters-e1738162900541.jpg
ORGANIZER;CN="CV de Heiknuiters":MAILTO:info@heiknuiters.nl
END:VEVENT
BEGIN:VEVENT
DTSTART;TZID=Europe/Amsterdam:20250119T110000
DTEND;TZID=Europe/Amsterdam:20250119T110000
DTSTAMP:20260420T092037
CREATED:20250106T140825Z
LAST-MODIFIED:20250106T140825Z
UID:10001041-1737284400-1737284400@www.altweerterheide.nl
SUMMARY:H.Mis 2e zondag door het jaar
DESCRIPTION:Voor Piet Bonten en Nelly Bonten-Linders (Jrd) \n  \nkoster B. Lamerikx Lector W. Janssen
URL:https://www.altweerterheide.nl/activiteit/h-mis-2e-zondag-door-het-jaar/
LOCATION:Kerk parochie Heilig Hart van Jezus\, Bocholterweg 112\, Altweerterheide\, Limburg\, 6006 TN\, Nederland
CATEGORIES:Kerkdiensten
ATTACH;FMTTYPE=image/jpeg:https://www.altweerterheide.nl/wp-content/uploads/2024/07/kern3.jpg
ORGANIZER;CN="Parochie van het Heilig Hart van Jezus Altweerterheide":MAILTO:pastooramal@webparochie.nl
END:VEVENT
BEGIN:VEVENT
DTSTART;TZID=Europe/Amsterdam:20250118T160000
DTEND;TZID=Europe/Amsterdam:20250118T160000
DTSTAMP:20260420T092037
CREATED:20250101T162614Z
LAST-MODIFIED:20250101T162635Z
UID:10001040-1737216000-1737216000@www.altweerterheide.nl
SUMMARY:
DESCRIPTION:Vandaag organiseert de Harmonie vh Heilig Hart Altweerterheide een koffieconcert waarin de jeugd centraal staat. \nOndermeer treden de blokfluiters\, het schoolorkest en het tienerorkest op.
URL:https://www.altweerterheide.nl/activiteit/2612/
LOCATION:Kindcentrum Altweerterheide\, Herenvennenweg\, Altweerterheide\, Nederland
CATEGORIES:Muziek
ATTACH;FMTTYPE=image/jpeg:https://www.altweerterheide.nl/wp-content/uploads/2024/11/20241112_145210-scaled.jpg
ORGANIZER;CN="Harmonie van het Heilig Hart Altweerterheide":MAILTO:info@harmonieheilighart.com
END:VEVENT
BEGIN:VEVENT
DTSTART;TZID=Europe/Amsterdam:20250112T110000
DTEND;TZID=Europe/Amsterdam:20250112T110000
DTSTAMP:20260420T092037
CREATED:20241212T101221Z
LAST-MODIFIED:20241212T101221Z
UID:10001033-1736679600-1736679600@www.altweerterheide.nl
SUMMARY:H.Mis Feest: Doop van de Heer.
DESCRIPTION:Voor overleden ouders Gubbels-Truijen (jrd) \n  \nKoster en Lector M. Peeters
URL:https://www.altweerterheide.nl/activiteit/h-mis-feest-doop-van-de-heer/
LOCATION:Kerk parochie Heilig Hart van Jezus\, Bocholterweg 112\, Altweerterheide\, Limburg\, 6006 TN\, Nederland
CATEGORIES:Kerkdiensten
ATTACH;FMTTYPE=image/jpeg:https://www.altweerterheide.nl/wp-content/uploads/2024/07/kern3.jpg
ORGANIZER;CN="Parochie van het Heilig Hart van Jezus Altweerterheide":MAILTO:pastooramal@webparochie.nl
END:VEVENT
BEGIN:VEVENT
DTSTART;TZID=Europe/Amsterdam:20250105T110000
DTEND;TZID=Europe/Amsterdam:20250105T110000
DTSTAMP:20260420T092037
CREATED:20241212T100943Z
LAST-MODIFIED:20241212T100943Z
UID:10001032-1736074800-1736074800@www.altweerterheide.nl
SUMMARY:H.Mis. Hoogfeest Openbaring des Heren (Driekoningen)
DESCRIPTION:Voor wijsheid van onze wereldleiders. \n  \nKoster B. Lamerikx.  Lector W. Janssen
URL:https://www.altweerterheide.nl/activiteit/h-mis-hoogfeest-openbaring-des-heren-driekoningen/
LOCATION:Kerk parochie Heilig Hart van Jezus\, Bocholterweg 112\, Altweerterheide\, Limburg\, 6006 TN\, Nederland
CATEGORIES:Kerkdiensten
ATTACH;FMTTYPE=image/jpeg:https://www.altweerterheide.nl/wp-content/uploads/2024/07/kern3.jpg
ORGANIZER;CN="Parochie van het Heilig Hart van Jezus Altweerterheide":MAILTO:pastooramal@webparochie.nl
END:VEVENT
BEGIN:VEVENT
DTSTART;TZID=Europe/Amsterdam:20241229T110000
DTEND;TZID=Europe/Amsterdam:20241229T110000
DTSTAMP:20260420T092037
CREATED:20241212T100705Z
LAST-MODIFIED:20241212T100705Z
UID:10001031-1735470000-1735470000@www.altweerterheide.nl
SUMMARY:H.Mis H.Familie JEZUS\, MARIA en JOZEF
DESCRIPTION:Voor voorspoed en geluk in het huisgezin. Voor een veilige plek om op te groeien voor ieder kind ter wereld. \n  \nKoster en lektor M. Peeters
URL:https://www.altweerterheide.nl/activiteit/h-mis-h-familie-jezus-maria-en-jozef/
LOCATION:Kerk parochie Heilig Hart van Jezus\, Bocholterweg 112\, Altweerterheide\, Limburg\, 6006 TN\, Nederland
CATEGORIES:Kerkdiensten
ATTACH;FMTTYPE=image/jpeg:https://www.altweerterheide.nl/wp-content/uploads/2024/07/kern3.jpg
ORGANIZER;CN="Parochie van het Heilig Hart van Jezus Altweerterheide":MAILTO:pastooramal@webparochie.nl
END:VEVENT
BEGIN:VEVENT
DTSTART;TZID=Europe/Amsterdam:20241225T111500
DTEND;TZID=Europe/Amsterdam:20241225T111500
DTSTAMP:20260420T092037
CREATED:20241212T100357Z
LAST-MODIFIED:20241212T100357Z
UID:10001030-1735125300-1735125300@www.altweerterheide.nl
SUMMARY:H.Mis KERSTMIS Hoogfeest: Geboorte van Jezus
DESCRIPTION:Voor Leen Schroeten-Hendrikx \nVoor Jac. Rietjens \nVoor Drina Tullemans-Smeets \n  \nkoster :Lamerikx Lector: W. Janssen
URL:https://www.altweerterheide.nl/activiteit/h-mis-kerstmis-hoogfeest-geboorte-van-jezus/
LOCATION:Kerk parochie Heilig Hart van Jezus\, Bocholterweg 112\, Altweerterheide\, Limburg\, 6006 TN\, Nederland
CATEGORIES:Kerkdiensten
ATTACH;FMTTYPE=image/jpeg:https://www.altweerterheide.nl/wp-content/uploads/2024/01/Dorpsraad-Altweerterheide-Ons-Dorp-05.jpg
ORGANIZER;CN="Parochie van het Heilig Hart van Jezus Altweerterheide":MAILTO:pastooramal@webparochie.nl
END:VEVENT
BEGIN:VEVENT
DTSTART;TZID=Europe/Amsterdam:20241222T110000
DTEND;TZID=Europe/Amsterdam:20241222T110000
DTSTAMP:20260420T092037
CREATED:20241123T110447Z
LAST-MODIFIED:20241123T110447Z
UID:10001028-1734865200-1734865200@www.altweerterheide.nl
SUMMARY:H.Mis 4e zondag van de Advent
DESCRIPTION:Voor een goede voorbereiding van het Kerstfeest. Dat deze dagen gebruikt worden voor het bijleggen van kleine en grote vetes. Om dankbaarheid voor de mensen van wie we houden. \n  \nLector en Koster M. Peeters.
URL:https://www.altweerterheide.nl/activiteit/h-mis-4e-zondag-van-de-advent/
LOCATION:Kerk parochie Heilig Hart van Jezus\, Bocholterweg 112\, Altweerterheide\, Limburg\, 6006 TN\, Nederland
CATEGORIES:Kerkdiensten
ATTACH;FMTTYPE=image/jpeg:https://www.altweerterheide.nl/wp-content/uploads/2024/01/Dorpsraad-Altweerterheide-Ons-Dorp-05.jpg
ORGANIZER;CN="Parochie van het Heilig Hart van Jezus Altweerterheide":MAILTO:pastooramal@webparochie.nl
END:VEVENT
BEGIN:VEVENT
DTSTART;TZID=Europe/Amsterdam:20241219T200000
DTEND;TZID=Europe/Amsterdam:20241219T220000
DTSTAMP:20260420T092037
CREATED:20240115T151249Z
LAST-MODIFIED:20240115T151249Z
UID:10000822-1734638400-1734645600@www.altweerterheide.nl
SUMMARY:Vergadering van de Dorpsraad
DESCRIPTION:De vergadering is voor iedereen vrij toegankelijk. \nHierin worden alle zaken besproken die vanuit de gemeente bij de dorpsraad terecht komen. Ook vanuit het dorp zelf mogen mensen zich melden met thema’s. \n 
URL:https://www.altweerterheide.nl/activiteit/vergadering-van-de-dorpsraad/2024-12-19/
LOCATION:Limburg\, Nederland
CATEGORIES:Bestuur
ATTACH;FMTTYPE=:
END:VEVENT
BEGIN:VEVENT
DTSTART;TZID=Europe/Amsterdam:20241219T200000
DTEND;TZID=Europe/Amsterdam:20241219T200000
DTSTAMP:20260420T092037
CREATED:20241212T112458Z
LAST-MODIFIED:20241212T112458Z
UID:10001034-1734638400-1734638400@www.altweerterheide.nl
SUMMARY:Exta Ledenvergadering dorpsraad Altweerterheide
DESCRIPTION:Extra ledenvergadering om de statuten 2024 van de vereniging Dorpsraad Altweerterheide goed te keuren.
URL:https://www.altweerterheide.nl/activiteit/exta-ledenvergadering-dorpsraad-altweerterheide/
LOCATION:Kindcentrum Altweerterheide\, Herenvennenweg\, Altweerterheide\, Nederland
CATEGORIES:Bestuur
ATTACH;FMTTYPE=image/jpeg:https://www.altweerterheide.nl/wp-content/uploads/2024/01/Dorpsraad-Altweerterheide-Logo-Banner.jpg
ORGANIZER;CN="Bestuur dorpsraad Altweerterheide":MAILTO:info@altweerterheide.nl
END:VEVENT
BEGIN:VEVENT
DTSTART;TZID=Europe/Amsterdam:20241219T130000
DTEND;TZID=Europe/Amsterdam:20241219T130000
DTSTAMP:20260420T092037
CREATED:20240312T135834Z
LAST-MODIFIED:20240312T135834Z
UID:10000928-1734613200-1734613200@www.altweerterheide.nl
SUMMARY:Kerstbrunch ouderenvereniging
DESCRIPTION:Vandaag organiseert de ouderenvereniging voor haar leden een mooie kerstbrunch. Delocatie is nog niet bekend maar wordt zodra deze bekend is bekend gemaakt.
URL:https://www.altweerterheide.nl/activiteit/kerstbrunch-ouderenvereniging/
LOCATION:voormalige camping “De IJzerenman”\, Nederland
CATEGORIES:Senioren
ATTACH;FMTTYPE=image/jpeg:https://www.altweerterheide.nl/wp-content/uploads/2024/03/kerstbrunch-2024.jpeg
ORGANIZER;CN="ouderenvereniging Altweerterheide":MAILTO:ov.altweerterheide@gmail.com
END:VEVENT
BEGIN:VEVENT
DTSTART;VALUE=DATE:20241216
DTEND;VALUE=DATE:20241218
DTSTAMP:20260420T092037
CREATED:20240503T074910Z
LAST-MODIFIED:20240503T074910Z
UID:10000960-1734314400-1734400799@www.altweerterheide.nl
SUMMARY:16 - 22 december Kerstattentie Buurtvereniging Karelke
DESCRIPTION:In deze week kunnen de 65+ leden van onze vereniging een leuke Kerstattentie ontvangen.
URL:https://www.altweerterheide.nl/activiteit/16-22-december-kerstattentie-buurtvereniging-karelke/
LOCATION:voormalige camping “De IJzerenman”\, Nederland
CATEGORIES:Ontspanning
ATTACH;FMTTYPE=image/jpeg:https://www.altweerterheide.nl/wp-content/uploads/2024/05/Karelke.jpeg
END:VEVENT
END:VCALENDAR